BEGIN:VCALENDAR
VERSION:2.0
PRODID:-//IDEEA - ECPv5.6.0//NONSGML v1.0//EN
CALSCALE:GREGORIAN
METHOD:PUBLISH
X-WR-CALNAME:IDEEA
X-ORIGINAL-URL:https://ideea.gr
X-WR-CALDESC:IDEEA - Εκδηλώσεις
BEGIN:VTIMEZONE
TZID:Europe/Moscow
BEGIN:STANDARD
TZOFFSETFROM:+0300
TZOFFSETTO:+0300
TZNAME:MSK
DTSTART:20260101T000000
END:STANDARD
END:VTIMEZONE
BEGIN:VEVENT
DTSTART;TZID=Europe/Moscow:20260428T183000
DTEND;TZID=Europe/Moscow:20260428T203000
DTSTAMP:20260426T053247
CREATED:20260420T131630Z
LAST-MODIFIED:20260420T131726Z
UID:7172-1777401000-1777408200@ideea.gr
SUMMARY:Διαδικτυακή Ημερίδα: Νέος Νόμος Τεχνίτη Υψηλής Τάσης για Όλες τις Ειδικότητες
DESCRIPTION:Δωρεάν Διαδικτυακή Ενημερωτική Ημερίδα: Νέος Νόμος Τεχνίτη Υψηλής Τάσης για Όλες τις Ειδικότητες\n Τρίτη 28 Απριλίου 2026    18:30-20:30 \nΣας γνωρίζουμε ότι η επιστημονική ομάδα του Ινστιτούτου ΙΔΕΕΑ θα διοργανώσει ενημερωτική ημερίδα με θέμα: \nΝέα Νομοθεσία για τον Τεχνίτη Υψηλής Τάσης για Όλες τις Ειδικότητες: \n\nτεχνίτης συστήματος πέδησης\,\nτεχνίτης αντλιών πετρελαιοκινητήρων\,\nτεχνίτης εξαερωτήρων-αναμικτήρων [καρμπιρατέρ]\,\nτεχνίτης οργάνων\,\nτεχνίτης αναρτήσεων\,\nτεχνίτης συστημάτων εξαγωγής καυσαερίων (σιγαστήρων)\,\nτεχνίτης ψυγείων\,\nτεχνίτης αμαξωμάτων [φανοποιός]\,\nτεχνίτης βαφής\,\nτεχνίτης τροχών\,\nτεχνίτης μοτοσικλετών και μοτοποδηλάτων\,\nτεχνίτη ψηφιακού ταχογράφου\, υπεύθυνου συνεργείου ψηφιακού ταχογράφου\n\nΕισηγητές:\nΑ) Γ. Καπετανάκης – Τεχν. Διευθυντής Ινστιτούτου ΙΔΕΕΑ &\nΒ) Χ. Βόντας – Επιστημονικός Σύμβουλος Ινστιτούτου ΙΔΕΕΑ \nΣυντονιστής Ημερίδας: Β. Χρυσαφιάδης \nΣυμμετοχές ΔΩΡΕΑΝ.\nΣας περιμένουμε!\nΠεριορισμένες θέσεις συμμετοχής
URL:https://ideea.gr/event/new-law-texniti-ipsilis-tasis/
LOCATION:Μέσω Υπολογιστή
CATEGORIES:Webinars
ATTACH;FMTTYPE=image/jpeg:https://ideea.gr/wp-content/uploads/2026/04/epekatisi-texniti-ipsilis-tasis.jpg
ORGANIZER;CN="%CE%99%CE%BD%CF%83%CF%84%CE%B9%CF%84%CE%BF%CF%8D%CF%84%CE%BF%20%CE%99%CE%94%CE%95%CE%95%CE%91":MAILTO:dtp@ideea.gr
END:VEVENT
BEGIN:VEVENT
DTSTART;TZID=Europe/Moscow:20260504T183000
DTEND;TZID=Europe/Moscow:20260507T200000
DTSTAMP:20260426T053247
CREATED:20260420T090258Z
LAST-MODIFIED:20260420T090258Z
UID:7170-1777919400-1778184000@ideea.gr
SUMMARY:Σεμινάριο Τεχνίτη Υψηλής Τάσης Κατηγορίας 1
DESCRIPTION:Σεμινάριο για την επέκταση της άδειας άσκησης επαγγέλματος Τεχνίτη Υψηλής Τάσης κατηγορίας 1 (με βάση την Y.A Αριθμ. 151639)\nΩρολόγιο Πρόγραμμα\n\nΘεωρία (Δευτέρα 04 εώς και Πέμπτη 07 Μαΐου 2026): 13 ώρες διαδικτυακά μέσω webinar\nΠρακτική στην Αθήνα (Σάββατο 09 Μαΐου 2026): 7 ώρες με φυσική παρουσία – Ιερά Οδός 131 & Αγίας Άννης ΧΑΝΙΑΔΑΚΗΣ (Είσοδος από Αγ. Άννης) Χάρτης\nΣύνολο: 20 ώρες \n \n\n\n\n\nΔΕΥΤΕΡΑ\n04/5/26\nΤΡΙΤΗ\n05/5/26\nΤΕΤΑΡΤΗ\n06/5/26\nΠΕΜΠΤΗ\n07/5/26\n\nΣάββατο\n09/5/26\n\n\n\n\n18.30-21.30\n18.30-21.30\n18.30-21.30\n18.30-20.00\n\n9.30-15.30\n\n\n\nΘεωρία\n(webinar)\nΘεωρία\n(webinar)\nΘεωρία\n(webinar)\nΘεωρία\n(webinar)\n\nΠρακτική\n(φυσική παρουσία)\n\n\n4 ώρες\n4 ώρες\n4 ώρες\n2 ώρες\n\n7 ώρες\n\n\n\n\n(σύρετε δεξιά-αριστερά για να δείτε όλο το πρόγραμμα) \n \nΔείτε το αναλυτικό πρόγραμμα \n\nΕκπαιδευτική Ύλη\n\nΕισαγωγή στην τεχνολογία των οχημάτων υψηλής τάσης\nΒασικές αρχές λειτουργίας ηλεκτρικών κινητήρων\nΗλεκτρική διαχείριση ενέργειας – Στοιχεία κινητήριων μονάδων\nΗλεκτρική ενέργεια\nΜέτρα ασφάλειας\nΣυντήρηση – Εξοπλισμός – Έλεγχοι ηλεκτρικών συστημάτων\nΦορτιστές ηλεκτρικών οχημάτων\nΝομοθεσία ηλεκτρικών οχημάτων και συνεργείων οχημάτων υψηλής τάσης\nΠρακτική Άσκηση μιας ημέρας\n\n\nTo ΙΔΕΕΑ Έμπρακτα κοντά σας \nΔωρεάν Βοηθητικό Εκπαιδευτικό Υλικό:\nΒιντεοσκοπημένο Σεμινάριο Ηλεκτρικά στο Αυτοκίνητο Αξίας 440 €  \nΣτόχος του Εκπαιδευτικού Προγράμματος\nΗ μετάβαση στην νέα εποχή της Ηλεκτροκίνησης απαιτεί την απόκτηση της κορυφαίας τεχνικής γνώσης αλλά και δεξιοτήτων που δεν είναι πρωτογενώς παραγόμενη αλλά εισαγόμενη όπως συνηθίζουμε να επικοινωνούμε στα σεμινάριά μας. Το τρίγωνο της επιτυχημένης διάγνωσης\, επισκευής και συντήρησης οχημάτων υψηλής τάσης έχει τις εξής προϋποθέσεις: \n\nΓνώση\nΔιαγνωστικός εξοπλισμός & ειδικά εργαλεία\nΠρόσβαση στην πληροφορία\n\nΣτόχος η επέκταση της ήδη υπάρχουσας άδειας άσκησης επαγγέλματος σε «Άδεια άσκησης επαγγέλματος τεχνίτη οχημάτων υψηλής τάσης Κατηγορίας 1». \nΗ εκπαίδευση για πρώτη φορά ενσωματώνει ένα κεφάλαιο νομοθεσίας η οποία αφορά το Συνεργείο και την λειτουργία του\, ως συνεργείο οχημάτων υψηλής τάσης (μέχρι 3.5 tn μέχρι αυτή τη στιγμή)\, την άδεια άσκησης επαγγέλματος αλλά και τους φορτιστές και την εγκατάστασή τους. \nΣτις νομοθετικές διατάξεις για τα οχήματα υψηλής τάσης\, αποσαφηνίζεται η γνώση των νομοθετημένων μέτρων για την ασφάλεια των εργασιών σε οχήματα Υ.Τ καθώς και την εργασία σε συνεργεία οχημάτων υψηλής τάσης\, την αναγνώριση του αυτοκινήτου Υ.Τ\, τη σήμανση\, τον καθορισμό της θέσης εργασίας\, τη χρήση Μέσων Ατομικής Προστασίας και ειδικού εξοπλισμού (θερμική κάμερα υπερύθρων)\, την αντιμετώπιση πυρκαγιάς και φυσικά τη φύλαξη και απομάκρυνση μπαταριών Υ.Τ. \nΤο νομοθετικό πλαίσιο στο μεγαλύτερο μέρος του έχει ολοκληρωθεί και άγνοια νόμου δεν υπάρχει. \nΑξιολόγηση εκπαιδευομένων με γραπτές εξετάσεις μέσω Ηλεκτρονικής Πλατφόρμας ΙΔΕΕΑ Τεχνίτη Υψηλής Τάσης Κατηγορίας 1\n30 Τυχαίες ερωτήσεις συνολικά για τον κάθε εκπαιδευόμενο διαβαθμισμένης δυσκολίας προερχόμενες από μία «δεξαμενή» ερωτήσεων που καλύπτει όλη την ύλη. \nΤο εργαλείο των εξετάσεων είναι αυτοματοποιημένο\, επικοινωνεί αμέσως τα αποτελέσματα και δεν απαιτεί την παραμικρή ανθρώπινη παρέμβαση. Το Ψηφιακό αποτέλεσμα των γραπτών εξετάσεων αποθηκεύεται ηλεκτρονικά και καταχωρείται στον φάκελο του κάθε εξεταζόμενου. \nΣτην συνέχεια το Ινστιτούτο ΙΔΕΕΑ σας αποστέλλει τη σχετική βεβαίωση που εκδίδει το συνεργαζόμενο Κέντρο Δια Βίου Μάθησης. \nΠροϋποθέσεις συμμετοχής στο πρόγραμμα\nΟι ελάχιστες προϋποθέσεις συμμετοχής στο πρόγραμμα\, σύμφωνα με την ισχύουσα νομοθεσία αναφέρονται στην αντίστοιχη φόρμα δεξιά της οθόνης (σε κινητά τηλέφωνα θα βρείτε τη φόρμα στο τέλος της οθόνης). \nΤο εκπαιδευτικό πρόγραμμα μπορούν να το παρακολουθήσουν και άλλες ειδικότητες Επισκευαστών ή τεχνίτες – εργαζόμενοι σε επισκευαστικές επιχειρήσεις\, όπως πχ. Φανοβαφείς που εμπλέκονται με την επισκευή υβριδικών-ηλεκτρικών οχημάτων Υ.Τ. Φυσικά μπορούν να παρακολουθήσουν μελλοντικοί τεχνίτες επισκευής (ηλικίας >18 χρονών) συμβατικών οχημάτων που σκοπεύουν στην επέκταση της άδειας άσκησης επαγγέλματος στα οχήματα Υ.Τ. \nΣυμμετοχές – Πληροφορίες\nΓια συμμετοχές συμπληρώστε τη φόρμα δεξιά στην οθόνη (στα κινητά στο τέλος της οθόνης) ή επικοινωνήστε με το Ινστιτούτο Διαρκούς Επιμόρφωσης Επιχειρήσεων Αυτοκινήτου στα \n 2102825611 \n\n 2106754419 \n\n dtp@ideea.gr \n\n  \n\nΠερισσότερες πληροφορίες σχετικά με τα Σεμινάρια του Ινστιτούτου ΙΔΕΕΑ για την επέκταση της άδειας άσκησης επαγγέλματος Τεχνίτη Υψηλής Τάσης κατηγορίας 1 και 2 (με βάση την Y.A Αριθμ. 151639) μπορείτε να διαβάσετε εδώ \nΕισηγητές\n  \n \n \n \nΓ. Καπετανάκης\n \n \n\n \n \n \n \nX. Βόντας\n \n \n \n \n \n \nΒ. Καφαντάρης\n \n \n \n \n \n \n  \n \n \nΑ. Κοντογεώργης\n \n \n \n \n \n \nΑ. Κοτσιλιέρης\n \n \n \n \n \n\n \nΥπεύθυνος Προγράμματος \n \n \n \nΠ. Καραμπίλας
URL:https://ideea.gr/event/cat1-may26/
LOCATION:Μέσω Υπολογιστή
CATEGORIES:Webinars,ΤΕΧΝΙΤΗΣ ΥΨΗΛΗΣ ΤΑΣΗΣ
ATTACH;FMTTYPE=image/jpeg:https://ideea.gr/wp-content/uploads/2023/09/SEMINAR-YT.jpg
ORGANIZER;CN="%CE%99%CE%BD%CF%83%CF%84%CE%B9%CF%84%CE%BF%CF%8D%CF%84%CE%BF%20%CE%99%CE%94%CE%95%CE%95%CE%91":MAILTO:dtp@ideea.gr
END:VEVENT
BEGIN:VEVENT
DTSTART;TZID=Europe/Moscow:20260511T183000
DTEND;TZID=Europe/Moscow:20260521T213000
DTSTAMP:20260426T053247
CREATED:20260331T121451Z
LAST-MODIFIED:20260420T085752Z
UID:7137-1778524200-1779399000@ideea.gr
SUMMARY:Σεμινάριο Τεχνίτη Υψηλής Τάσης Κατηγορίας 2
DESCRIPTION:Σεμινάριο για την επέκταση της άδειας άσκησης επαγγέλματος Τεχνίτη Υψηλής Τάσης κατηγορίας 2 (με βάση την Y.A Αριθμ. 151639)\nΗ επέκταση της άδειας σε Τεχνίτη Υψηλής Τάσης κατηγορίας 2 προϋποθέτει ο τεχνίτης να έχει ολοκληρώσει την απαιτούμενη εκπαίδευση και να έχει λάβει τη Βεβαίωση Τεχνίτη Υψηλής Τάσης κατηγορίας 1\n\nΩρολόγιο Πρόγραμμα\n\nΘεωρία (Δευτέρα 11 εώς και Πέμπτη 14 Μαΐου & Δευτέρα 18 εώς και Πέμπτη 21 Μαΐου 2026): 28 ώρες διαδικτυακά μέσω webinar\nΠρακτική (Σάββατο 23 & Κυριακή 24 Μαΐου 2026): 14 ώρες με φυσική παρουσία – Ιερά Οδός 131 & Αγίας Άννης (ΧΑΝΙΑΔΑΚΗΣ – Είσοδος από Αγ. Άννης) Χάρτης\nΣύνολο: 42 ώρες \n \n1η εβδομάδα \n\n\n\n\nΔΕΥΤΕΡΑ\n11/05/26\nΤΡΙΤΗ\n12/05/26\nΤΕΤΑΡΤΗ\n13/05/26\nΠΕΜΠΤΗ\n14/05/26\nΠΑΡΑΣΚΕΥΗ\n15/05/26\nΣΑΒΒΑΤΟ\n16/05/26\nΚΥΡΙΑΚΗ\n17/05/26\n\n\n\n\n18.30-20.45\n18.30-21.30\n18.30-21.30\n18.30-21.30\nX\nΧ\nΧ\n\n\n\nΘεωρία\n(webinar)\nΘεωρία\n(webinar)\nΘεωρία\n(webinar)\nΘεωρία\n(webinar)\nX\nΧ\nΧ\n\n\n3 ώρες\n3 ώρες\n4 ώρες\n4 ώρες\nX\nΧ\nΧ\n\n\n\n\n(σύρετε δεξιά-αριστερά για να δείτε όλο το πρόγραμμα) \n \n \n2η εβδομάδα \n\n\n\n\nΔΕΥΤΕΡΑ\n18/05/26\nΤΡΙΤΗ\n19/05/26\nΤΕΤΑΡΤΗ\n20/05/26\nΠΕΜΠΤΗ\n21/05/26\nΠΑΡΑΣΚΕΥΗ\n22/05/26\nΣΑΒΒΑΤΟ\n23/05/26\nΚΥΡΙΑΚΗ\n24/05/26\n\n\n\n\n18.30-21.30\n18.30-20.45\n18.30-21.30\n18.30-20.00\nΧ\n9.30-15.30\n9.30-15.30\n\n\nΘεωρία\n(webinar)\nΘεωρία\n(webinar)\nΘεωρία\n(webinar)\nΘεωρία\n(webinar)\nΧ\nΠρακτική\n(φυσική παρουσία)\nΠρακτική\n(φυσική παρουσία)\n\n\n4 ώρες\n4 ώρες\n2 ώρες\n2 ώρες\nΧ\n7 ώρες\n7 ώρες\n\n\n\n\n(σύρετε δεξιά-αριστερά για να δείτε όλο το πρόγραμμα) \n \nΔείτε το αναλυτικό πρόγραμμα \n\nΕκπαιδευτική Ύλη\n\nΕισαγωγή στην τεχνολογία των οχημάτων υψηλής τάσης\nΒασικές αρχές λειτουργίας ηλεκτρικών κινητήρων\nΗλεκτρική διαχείριση ενέργειας – Στοιχεία κινητήριων μονάδων\nΗλεκτρική ενέργεια\nΜέτρα ασφάλειας\nΣυντήρηση – Εξοπλισμός – Έλεγχοι ηλεκτρικών συστημάτων\nΦορτιστές ηλεκτρικών οχημάτων\nΤύποι και δίκτυα επικοινωνίας ηλεκτρονικών μονάδων\nΝομοθεσία ηλεκτρικών οχημάτων και συνεργείων οχημάτων υψηλής τάσης\nΠρακτική Άσκηση δύο ημερών\n\n\nTo ΙΔΕΕΑ Έμπρακτα κοντά σας\nΔωρεάν Βοηθητικό Εκπαιδευτικό Υλικό\n2 Βιντεοσκοπημένα Σεμινάρια: \n• Ηλεκτρονικά στο Αυτοκίνητο Αξίας 440 €\n• Δίκτυα Επικοινωνίας Εγκεφάλων Αξίας 520 € \nΣτόχος του Εκπαιδευτικού Προγράμματος\nΗ μετάβαση στην νέα εποχή της Ηλεκτροκίνησης απαιτεί την απόκτηση της κορυφαίας τεχνικής γνώσης αλλά και δεξιοτήτων που δεν είναι πρωτογενώς παραγόμενη αλλά εισαγόμενη όπως συνηθίζουμε να επικοινωνούμε στα σεμινάριά μας. Το τρίγωνο της επιτυχημένης διάγνωσης\, επισκευής και συντήρησης οχημάτων υψηλής τάσης έχει τις εξής προϋποθέσεις: \n\nΓνώση\nΔιαγνωστικός εξοπλισμός & ειδικά εργαλεία\nΠρόσβαση στην πληροφορία\n\nΣτόχος η επέκταση της ήδη υπάρχουσας άδειας άσκησης επαγγέλματος σε «Άδεια άσκησης επαγγέλματος τεχνίτη οχημάτων υψηλής τάσης Κατηγορίας 2». \nΗ εκπαίδευση για πρώτη φορά ενσωματώνει ένα κεφάλαιο νομοθεσίας η οποία αφορά το Συνεργείο και την λειτουργία του\, ως συνεργείο οχημάτων υψηλής τάσης (μέχρι 3.5 tn μέχρι αυτή τη στιγμή)\, την άδεια άσκησης επαγγέλματος αλλά και τους φορτιστές και την εγκατάστασή τους. \nΣτις νομοθετικές διατάξεις για τα οχήματα υψηλής τάσης\, αποσαφηνίζεται η γνώση των νομοθετημένων μέτρων για την ασφάλεια των εργασιών σε οχήματα Υ.Τ καθώς και την εργασία σε συνεργεία οχημάτων υψηλής τάσης\, την αναγνώριση του αυτοκινήτου Υ.Τ\, τη σήμανση\, τον καθορισμό της θέσης εργασίας\, τη χρήση Μέσων Ατομικής Προστασίας και ειδικού εξοπλισμού (θερμική κάμερα υπερύθρων)\, την αντιμετώπιση πυρκαγιάς και φυσικά τη φύλαξη και απομάκρυνση μπαταριών Υ.Τ. \nΑξιολόγηση εκπαιδευομένων με γραπτές εξετάσεις μέσω Ηλεκτρονικής Πλατφόρμας ΙΔΕΕΑ Τεχνίτη Υψηλής Τάσης Κατηγορίας 2\n30 Τυχαίες ερωτήσεις συνολικά για τον κάθε εκπαιδευόμενο διαβαθμισμένης δυσκολίας προερχόμενες από μία «δεξαμενή» ερωτήσεων που καλύπτει όλη την ύλη. \nΤο εργαλείο των εξετάσεων είναι αυτοματοποιημένο. Το Ψηφιακό αποτέλεσμα των γραπτών εξετάσεων αποθηκεύεται ηλεκτρονικά και καταχωρείται στον φάκελο του κάθε εξεταζόμενου. \nΣτην συνέχεια το Ινστιτούτο ΙΔΕΕΑ σας αποστέλλει τη σχετική βεβαίωση που εκδίδει το συνεργαζόμενο Κέντρο Δια Βίου Μάθησης. \nΠροϋποθέσεις συμμετοχής στο πρόγραμμα\nΟι ελάχιστες προϋποθέσεις συμμετοχής στο πρόγραμμα\, σύμφωνα με την ισχύουσα νομοθεσία αναφέρονται στην αντίστοιχη φόρμα δεξιά της οθόνης (σε κινητά τηλέφωνα θα βρείτε τη φόρμα στο τέλος της οθόνης). \nΤο εκπαιδευτικό πρόγραμμα μπορούν να το παρακολουθήσουν και άλλες ειδικότητες Επισκευαστών ή τεχνίτες – εργαζόμενοι σε επισκευαστικές επιχειρήσεις\, όπως πχ. Φανοβαφείς που εμπλέκονται με την επισκευή υβριδικών-ηλεκτρικών οχημάτων Υ.Τ. Φυσικά μπορούν να παρακολουθήσουν μελλοντικοί τεχνίτες επισκευής (ηλικίας >18 χρονών) συμβατικών οχημάτων που σκοπεύουν στην επέκταση της άδειας άσκησης επαγγέλματος στα οχήματα Υ.Τ. \nΣυμμετοχές – Πληροφορίες\nΓια συμμετοχές συμπληρώστε τη φόρμα δεξιά στην οθόνη (στα κινητά στο τέλος της οθόνης) ή επικοινωνήστε με το Ινστιτούτο Διαρκούς Επιμόρφωσης Επιχειρήσεων Αυτοκινήτου στα \n 2102825611 \n\n 2106754419 \n\n dtp@ideea.gr \n\n\nΠερισσότερες πληροφορίες σχετικά με τα Σεμινάρια του Ινστιτούτου ΙΔΕΕΑ για την επέκταση της άδειας άσκησης επαγγέλματος Τεχνίτη Υψηλής Τάσης κατηγορίας 1 και 2 (με βάση την Y.A Αριθμ. 151639) μπορείτε να διαβάσετε εδώ \nΕισηγητές\n  \n \n \n \nΓ. Καπετανάκης\n \n \n\n \n \n \n \nX. Βόντας\n \n \n \n \n \n \nΒ. Καφαντάρης\n \n \n \n \n \n \n \n \nΑ. Κοντογεώργης\n \n \n \n \n \n \nΑ. Κοτσιλιέρης\n \n \n \n \n \n\n \nΥπεύθυνος Προγράμματος \n \n \n \nΠ. Καραμπίλας
URL:https://ideea.gr/event/cat2-april2026/
LOCATION:Μέσω Υπολογιστή
CATEGORIES:Webinars,ΤΕΧΝΙΤΗΣ ΥΨΗΛΗΣ ΤΑΣΗΣ
ATTACH;FMTTYPE=image/jpeg:https://ideea.gr/wp-content/uploads/2023/11/yt-2.jpg
ORGANIZER;CN="%CE%99%CE%BD%CF%83%CF%84%CE%B9%CF%84%CE%BF%CF%8D%CF%84%CE%BF%20%CE%99%CE%94%CE%95%CE%95%CE%91":MAILTO:dtp@ideea.gr
END:VEVENT
BEGIN:VEVENT
DTSTART;VALUE=DATE:20260518
DTEND;VALUE=DATE:20260524
DTSTAMP:20260426T053247
CREATED:20260421T081901Z
LAST-MODIFIED:20260421T081901Z
UID:7178-1779062400-1779580799@ideea.gr
SUMMARY:Σεμινάριο Κλιματισμού A/C 18-23 Μαΐου 2026
DESCRIPTION:Σεμινάριο Κλιματισμού A/C 18-23 Μαΐου 2026\nΑποκτήστε Βεβαίωση Κατάρτισης σύμφωνα με το ΦΕΚ 6777/Β – 31/12/21 με Ευρωπαϊκή αναγνώριση.\nΤο σεμινάριο πραγματοποιείται μέσω υπολογιστή (βιντεοσκποπημένα Webinar) για όλη την Ελλάδα. \nΗμερομηνίες Διεξαγωγής Σεμιναρίου: \n 18-22 Μαΐου 2026 (Θεωρία μέσω υπολογιστή)    \n 23 Μαΐου 2026 (Πρακτική μέσω υπολογιστή)  \nΦίλε μηχανικέ\, ηλεκτρολόγε αυτοκινήτων γνωρίζεις ότι: \n«Τα πρόσωπα ή το προσωπικό εταιρειών ή επιχειρήσεων που ασχολούνται με συστήματα κλιματισμού με φθοριούχα αέρια θερμοκηπίου εγκατεστημένα σε ορισμένα μηχανοκίνητα οχήματα\, πρέπει να είναι κάτοχοι βεβαίωσης κατάρτισης.» \nTο Ινστιτούτο ΙΔΕΕΑ σε συνεργασία με Πιστοποιημένο Κέντρο Επαγγελματικής Κατάρτισης (ΚΕΚ) υλοποιεί σεμινάρια κατάρτισης για τεχνίτες Μηχανικούς ή Ηλεκτρολόγους οι οποίοι ασχολούνται με τον κλιματισμό Α/C οχημάτων και οδηγούν στην απόκτηση της Βεβαίωσης Κατάρτισης. \nΜια μοναδική διαδικασία με Θεωρία και Πρακτική από το Ινστιτούτο ΙΔΕΕΑ\, Εταιρείες ψυκτικών αερίων και Eταιρείες εξοπλισμού συνεργείων μηχανήματων κλιματισμού A/C. \nΠρόγραμμα Κατάρτισης Μηχανικών & Ηλεκτρολόγων Αυτοκινήτων (σύμφωνα με το ΦΕΚ 6777/Β – 31/12/21): ΣΥΣΤΗΜΑΤΑ ΚΛΙΜΑΤΙΣΜΟΥ ΜΗΧΑΝΟΚΙΝΗΤΩΝ ΟΧΗΜΑΤΩΝ \n\n\nΛειτουργία συστημάτων κλιματισμού με φθοριούχα αέρια θερμοκηπίου\, τοποθετημένων σε μηχανοκίνητα\, περιβαλλοντικές επιπτώσεις φθοριούχων αερίων θερμοκηπίου χρησιμοποιούμενων ως ψυκτικών μέσων και αντίστοιχες περιβαλλοντικές κανονιστικές διατάξεις\n\nΒασικές γνώσεις της λειτουργίας συστημάτων κλιματισμού σε μηχανοκίνητα οχήματα (1ο Μέρος)\nΒασικές γνώσεις της λειτουργίας συστημάτων κλιματισμού σε μηχανοκίνητα οχήματα (2ο Μέρος)\nΒασικές γνώσεις της χρήσης και των ιδιοτήτων των φθοριούχων αερίων θερμοκηπίου που χρησιμοποιούνται ως ψυκτικά μέσα σε συστήματα κλιματισμού για μηχανοκίνητα οχήματα\, η επίπτωση των εκπομπών αυτών των αερίων στο περιβάλλον (τάξη μεγέθους του δυναμικού θέρμανσης του πλανήτη όσον αφορά την κλιματική αλλαγή)\nΒασικές γνώσεις των σχετικών διατάξεων του κανονισμού (ΕΚ) αριθ. 842/2006 και της οδηγίας 2006/40/ΕΚ\n\n\nΠεριβαλλοντική φιλική ανάκτηση φθοριούχων αερίων θερμοκηπίου\n\nΓνώσεις σχετικά με συνήθεις διαδικασίες ανάκτησης φθοριούχων αερίων θερμοκηπίου\nΧειρισμός κυλίνδρου με ψυκτικό μέσο\nΣύνδεση και αποσύνδεση συστήματος ανάκτησης στις αντίστοιχες εισόδους κλιματιστικής συσκευής για μηχανοκίνητο όχημα στην οποία περιέχονται φθοριούχα αέρια θερμοκηπίου\n\n\n\n\nKόστος Συμμετοχής Συνδρομητών*\n\n\n\n\n\n\nΣυνδρομητές\n\n320 €\n\n\nΜη Συνδρομητές\n420 €\n\n\n\n\n\n(για κινητές συσκευές σύρετε τον πίνακα προς τα δεξιά για να δείτε τις τιμές)\n\nΠεριορισμένες θέσεις συμμετοχής\nΟι τιμές περιλαμβάνουν ΦΠΑ. \n*Για να ισχύσει η τιμή του συνδρομητή θα πρέπει να είστε συνδρομητές στην Εφημερίδα “Το Συνεργείο του Αυτοκινήτου” το τελευταίο χρόνο. Ενημερωθείτε για την συνδρομή ΕΔΩ. \nΠληροφορίες\nΣυμπληρώστε την αντίστοιχη φόρμα δεξιά – σε κινητά τηλ. στο τέλος – της οθόνης ή επικοινωνήστε με το Ινστιτούτο Διαρκούς Επιμόρφωσης Επιχειρήσεων Αυτοκινήτου στα \n 2102825611 \n\n 2106754419 \n\n dtp@ideea.gr \n\nΕισηγητές\n\nΒΑΣΙΛΗΣ ΚΑΦΑΝΤΑΡΗΣΤΕΧΝ. ΜΗΧ. ΟΧΗΜΑΤΩΝΕκπαιδευτής ΙΔΕΕΑ πιστοποιημένος από το Εθνικό Κέντρο Πιστοποίησης Δομών Δια Βίου Μάθησης και πιστοποιημένος μηχανικός στην Υψηλή Τάση \n\n\nΠΕΤΡΟΣ ΚΑΡΑΜΠΙΛΑΣΤΕΧΝ. ΜΗΧ. ΟΧΗΜΑΤΩΝΔ/ντής & Εκπαιδευτής ΙΔΕΕΑ πιστοποιημένος από το Εθνικό Κέντρο Πιστοποίησης Δομών Δια Βίου Μάθησης \n\n 
URL:https://ideea.gr/event/seminar-ac-may-2026/
LOCATION:Μέσω Υπολογιστή
CATEGORIES:Webinars
ATTACH;FMTTYPE=image/jpeg:https://ideea.gr/wp-content/uploads/2016/03/AC-service1.jpg
ORGANIZER;CN="%CE%99%CE%BD%CF%83%CF%84%CE%B9%CF%84%CE%BF%CF%8D%CF%84%CE%BF%20%CE%99%CE%94%CE%95%CE%95%CE%91":MAILTO:dtp@ideea.gr
END:VEVENT
BEGIN:VEVENT
DTSTART;TZID=Europe/Moscow:20260527T183000
DTEND;TZID=Europe/Moscow:20260527T210000
DTSTAMP:20260426T053247
CREATED:20260420T070718Z
LAST-MODIFIED:20260420T084815Z
UID:7155-1779906600-1779915600@ideea.gr
SUMMARY:Ηλεκτρικά Τιμόνια - Μάθε τη σωστή διάγνωση και γίνε EPS Expert
DESCRIPTION:Τεχνικό Σεμινάριο\n«Ηλεκτρικά Τιμόνια: Από τον ‘Πονοκέφαλο’ των Βλαβών στην Κερδοφόρα Επισκευή – Μάθε τη σωστή διάγνωση και γίνε EPS Expert»\nΤετάρτη 27 Μαΐου 2026\, 18.30 – 21.00 μέσω Υπολογιστή (Webinars)\n\n\n“Σου έχει τύχει να αλλάξεις κρεμαγιέρα και το λαμπάκι να παραμένει αναμμένο;\nΤα σύγχρονα συστήματα διεύθυνσης EPS και EHPS είναι το ‘στοίχημα’ του σημερινού συνεργείου.\nΜπορεί να είναι πηγή προβλημάτων\, αλλά με την κατάλληλη γνώση μετατρέπονται σε πηγή εσόδων.”\nΞεκλειδώστε λοιπόν τα Μυστικά των Ηλεκτρικών & Ηλεκτρο-ϋδραυλικών Συστημάτων\n\nΤα ηλεκτρικά και ηλεκτρο-ϋδραυλικά συστήματα υποβοήθησης προσφέρουν κορυφαία οικονομία και άνεση\, αποτελώντας πλέον βασικό εξοπλισμό σε κάθε σύγχρονο όχημα. Ωστόσο\, η πολυπλοκότητά τους συχνά προκαλεί σύγχυση και αδιέξοδα στη διάγνωση. \nΣε αυτό το εξειδικευμένο σεμινάριο\, αφήνουμε πίσω τις υποθέσεις και περνάμε στην πράξη. Θα μάθεις να «διαβάζεις» το σύστημα διεύθυνσης και να ξεχωρίζεις τις πραγματικές βλάβες από τις ψευδείς\, γλιτώνοντας χρόνο και δυσαρεστημένους πελάτες. \nΤι θα καλύψουμε: \n\nΑποκωδικοποίηση Λειτουργίας: Πώς συνεργάζεται το hardware με το software.\nSmart Diagnosis: Ανάλυση κωδικών βλαβών (DTCs) και χρήση ηλεκτρικών διαγραμμάτων.\nΤο μυστικό των “Ψευδών Βλαβών”: Γιατί ο κωδικός B2000/U3000 δεν σημαίνει πάντα αντικατάσταση.\nCalibration & Setup: Σωστό καλιμπράρισμα αισθητήρων μετά από κάθε επισκευή.\nΠροληπτική Συντήρηση: Τα σημεία-κλειδιά που προστατεύουν τον επισκευαστή και τον χρήστη.\nΑσφάλεια Εργασιών: Πρωτόκολλα για μηδενικό ρίσκο κατά την επισκευή.\n\nΜην αφήνεις την τεχνολογία να σε προσπερνά. Γίνε ο ειδικός που δίνει λύση εκεί που οι άλλοι σηκώνουν τα χέρια ψηλά! \nKόστος Συμμετοχής\n\n\n\n\n\nΚόστος\n\n\n\n\nΣυνδρομητές\n\n60 €\n\n\nMη Συνδρομητές\n100 €\n\n\n\n\n(για κινητές συσκευές σύρετε τον πίνακα προς τα δεξιά για να δείτε τις τιμές)\n\nΠεριορισμένες θέσεις συμμετοχής\nΤμήματα ολιγομελή\nΟι τιμές περιλαμβάνουν ΦΠΑ. \n*Γραφείτε και εσείς συνδρομητές στην Εφημερίδα “Το Συνεργείο του Αυτοκινήτου” ΕΔΩ\nγια να επωφεληθείτε των προνομιακών τιμών. \nΣυμμετοχές – Πληροφορίες\nΓια συμμετοχές συμπληρώστε τη φόρμα δεξιά στην οθόνη (στα κινητά στο τέλος της οθόνης) ή επικοινωνήστε με το Ινστιτούτο Διαρκούς Επιμόρφωσης Επιχειρήσεων Αυτοκινήτου στα \n 2102825611 \n\n 2106754419 \n\n dtp@ideea.gr \n  \n\nΕκπαιδευτές\n\n\nΠ Καραμπίλας\n \n\n\n\n\nΓ. Καπετανάκης \n\n\n\n\n  \nΔίνεται Ονομαστική Βεβαίωση Παρακολούθησης\n\n\n 
URL:https://ideea.gr/event/ilektrika-timonia/
LOCATION:Μέσω Υπολογιστή
CATEGORIES:Webinars
ATTACH;FMTTYPE=image/jpeg:https://ideea.gr/wp-content/uploads/2026/04/electric-steering.jpeg
ORGANIZER;CN="%CE%99%CE%BD%CF%83%CF%84%CE%B9%CF%84%CE%BF%CF%8D%CF%84%CE%BF%20%CE%99%CE%94%CE%95%CE%95%CE%91":MAILTO:dtp@ideea.gr
END:VEVENT
BEGIN:VEVENT
DTSTART;TZID=Europe/Moscow:20260530T093000
DTEND;TZID=Europe/Moscow:20260530T160000
DTSTAMP:20260426T053247
CREATED:20260417T121047Z
LAST-MODIFIED:20260421T065038Z
UID:7151-1780133400-1780156800@ideea.gr
SUMMARY:Τεχνικό Σεμινάριο: Διάγνωση Ηλεκτρικών Βλαβών με Πρακτικές Μετρήσεις!
DESCRIPTION:Τεχνικό Σεμινάριο\nΔιάγνωση Ηλεκτρικών Βλαβών με Πρακτικές Μετρήσεις!\nΠολύμετρο | Μεγκώμετρο | Μιλιωμόμετρο | Αμπεροτσιμπίδα AC/DC\n\nΕντοπισμός διαρροών μπαταρίας & standby ρευμάτων χωρίς αποσυνδέσεις\nΠτώσεις τάσης σε ασφάλειες σαν επαγγελματίας\nΑποφυγή συχνών λαθών διάγνωσης που κοστίζουν χρόνο & χρήμα\nΓρήγορα διαγράμματα ροής & φύλλα ελέγχου για το συνεργείο.\n\nΣάββατο 30 Μαΐου 2026\, 09.30 – 16.00\nΜόνο πρακτική με φυσική παρουσία – Χωρίς θεωρία\nΧώρος Εκπαίδευσης: Κέντρο εκπαίδευσης Syngelidis group – ΙΔΕΕΑ\nΙερά Οδός 131 & Αγίας Άννης – Χάρτης\n(ΧΑΝΙΑΔΑΚΗΣ – Είσοδος από Αγ. Άννης)\nΣτάση Metro: Ελαιώνας για εύκολη μετακίνηση\nΜπορείτε να φέρετε μαζί σας και να\nχρησιμοποιήσουμε τον δικό σας εξοπλισμό \n\n\nΜετρήσεις και εφαρμογές σε πραγματικά εξαρτήματα Αυτοκινήτου.\nΜετρήσεις και εφαρμογές πάνω σε αυτοκίνητο\nΈλεγχος Ισοδυναμικής Συνένωσης στο κύκλωμα Χαμηλής Τάσης 12 V\n\nΟι μετρήσεις με τα όργανα θα αφορούν τόσο συμβατικά όσο και αυτοκίνητα Υψηλής Τάσης (Υβριδικά / Ηλεκτρικά) \nKόστος Συμμετοχής\n\n\n\n\n\n\nΚόστος\n\n\n\n\nΣυνδρομητές\n\n120 €\n\n\nMη Συνδρομητές\n180 €\n\n\n\n\n\n(για κινητές συσκευές σύρετε τον πίνακα προς τα δεξιά για να δείτε τις τιμές)\n\nΠεριορισμένες θέσεις συμμετοχής\nΤμήματα ολιγομελή\nΟι τιμές περιλαμβάνουν ΦΠΑ. \n*Γραφείτε και εσείς συνδρομητές στην Εφημερίδα “Το Συνεργείο του Αυτοκινήτου” ΕΔΩ\nγια να επωφεληθείτε των προνομιακών τιμών. \nΣυμμετοχές – Πληροφορίες\nΓια συμμετοχές συμπληρώστε τη φόρμα δεξιά στην οθόνη (στα κινητά στο τέλος της οθόνης) ή επικοινωνήστε με το Ινστιτούτο Διαρκούς Επιμόρφωσης Επιχειρήσεων Αυτοκινήτου στα \n 2102825611 \n\n 2106754419 \n\n dtp@ideea.gr \n  \n\nΕκπαιδευτές\n\n\nΠ Καραμπίλας\n \n\n\n  \n\nΒ. Καφαντάρης\n \n\n\n\n  \nΔίνεται Ονομαστική Βεβαίωση Παρακολούθησης
URL:https://ideea.gr/event/metriseis-may26/
LOCATION:Μέσω Υπολογιστή
CATEGORIES:Σεμινάρια Φυσικής Παρουσίας
ATTACH;FMTTYPE=image/jpeg:https://ideea.gr/wp-content/uploads/2026/03/metriseis.jpg
ORGANIZER;CN="%CE%99%CE%BD%CF%83%CF%84%CE%B9%CF%84%CE%BF%CF%8D%CF%84%CE%BF%20%CE%99%CE%94%CE%95%CE%95%CE%91":MAILTO:dtp@ideea.gr
END:VEVENT
END:VCALENDAR