BEGIN:VCALENDAR
VERSION:2.0
PRODID:-//IDEEA - ECPv5.6.0//NONSGML v1.0//EN
CALSCALE:GREGORIAN
METHOD:PUBLISH
X-WR-CALNAME:IDEEA
X-ORIGINAL-URL:https://ideea.gr
X-WR-CALDESC:IDEEA - Εκδηλώσεις
BEGIN:VTIMEZONE
TZID:Europe/Moscow
BEGIN:STANDARD
TZOFFSETFROM:+0300
TZOFFSETTO:+0300
TZNAME:MSK
DTSTART:20220101T000000
END:STANDARD
END:VTIMEZONE
BEGIN:VEVENT
DTSTART;TZID=Europe/Moscow:20220507T090000
DTEND;TZID=Europe/Moscow:20220508T170000
DTSTAMP:20260425T040324
CREATED:20220111T123719Z
LAST-MODIFIED:20220509T062428Z
UID:5024-1651914000-1652029200@ideea.gr
SUMMARY:2-ήμερο Τεχνικό Σεμινάριο Τεχνολογία Ηλεκτρικών Οχημάτων και Πρακτική σε Ηλεκτρικό Όχημα
DESCRIPTION:2-ήμερο Τεχνικό Σεμινάριο Τεχνολογία Ηλεκτρικών Οχημάτων και Πρακτική σε Ηλεκτρικό Όχημα\n Σάββατο 7 & Κυριακή 8 Μαΐου  09:00-17:00 \nΣΕΜΙΝΑΡΙΑ ΠΡΟΕΤΟΙΜΑΣΙΑΣ ΤΕΧΝΙΤΗ ΗΛΕΚΤΡΟΚΙΝΗΣΗΣ. Ολα οσα πρεπει να γνωριζετε για την επερχομενη αποκτηση πιστοποιησης\nΤεχνική Εκπαίδευση στα ηλεκτρικά οχήματα\nΌλο το σεμινάριο θα πραγματοποιηθεί μέσω Υπολογιστή (Webinar) \n10 Brands σε 2 μέρες \n\nAudi Q4 E-tron\nBMW i3\nHyundai Ioniq\nKia Niro & Kia Soul\nNissan leaf\nOpel Corsa e\nRenault EV\nTesla Model S & 3\nVW e-Golf\nGENEVA Salon Electric [GIMS]\n\nΗ Ασφάλεια λόγω των κινδύνων Υψηλής τάσης πάνω απ’ όλα.\nΟ τεχν. Διευθυντής του Ινστιτούτου ΙΔΕΕΑ θα παρουσιάσει την Ασφάλεια των Εργασιών σε Υβριδικά και Ηλεκτρικά Οχήματα δηλ. οχήματα Υψηλής Τάσης.  \nΑκόμη που θα παρουσιαστεί και θα αναλυθεί η ακόλουθη θεματολογία: \n\nΗλεκτροκίνηση στην Ελλάδα και το κόσμο!\nΟ μετασχηματισμός του συμβατικού αυτοκινήτου σε Υβριδικό & Ηλεκτρικό όχημα\nΗ Τεχνολογία πίσω από τους όρους και τα EVs.\nΗλεκτρικά αυτοκίνητα Vs Αυτοκίνητα με ΜΕΚ\nΓιατί ηλεκτρικά οχήματα;\nΗλεκτρικές Μεταδόσεις κίνησης\nΑνατομία ενός Ηλεκτρικού Οχήματος\nInverters & DC/DC Converters\nΜπαταρίες Ηλεκτρικών Οχημάτων\nΦορτιστές Ηλεκτρικών Οχημάτων\nAudi Q4 E–tron – Από Concept στην παραγωγή\nNissan Leaf – Ηλεκτρικά οχήματα Μπαταρίας\nBMW i3 & i8 – Born Electric\nΗλεκτρικό VW e–Golf\nΗλεκτρικό Όχημα Μπαταρίας BEV Opel\n\nΠρακτική εκπαίδευση σε Ηλεκτρικό Όχημα\, αναγνώριση συστημάτων και εξαρτημάτων. \nΣτην Πρακτική* θα παρέχεται η δυνατότητα συμμετοχής με φυσική παρουσία στον χώρο διεξαγωγής της σύμφωνα πάντα με τους ισχύοντες κανόνες του ΕΟΔΥ για την αντιμετώπιση του Covid-19. Στα πλαίσια του νέου Υβριδικού Τύπου εκπαίδευσης η Πρακτική Εξάσκηση θα μεταδοθεί και ζωντανά μεσω web (webinar). \n*H Πρακτική θα πραγματοποιηθεί Κυριακή και ώρα 16:00 (Μετά τη θεωρία θα υπάρξει διάλειμμα ωστε όσοι συμμετέχοντες επιθυμούν να προσέλθουν στον χώρο της πρακτικής) \nΘα δοθεί Βεβαίωση Παρακολούθησης και το Αυτοκόλλητο σήμα εξωτερικού χώρου του εκπαιδευμένου Συνεργείου στην Τεχνολογία Ηλεκτρικών Οχημάτων. \n\nKόστος Συμμετοχής Συνδρομητών*\n\n\n\n\n\n\nΣυνδρομητές\n\n260 €\n\n\nΜη Συνδρομητές\n345 €\n\n\n\n\n\n(για κινητές συσκευές σύρετε τον πίνακα προς τα δεξιά για να δείτε τις τιμές)\n\nΠεριορισμένες θέσεις συμμετοχής\nΟι τιμές περιλαμβάνουν ΦΠΑ. \n*Για να ισχύσει η τιμή του συνδρομητή θα πρέπει να είστε συνδρομητές στην Εφημερίδα “Το Συνεργείο του Αυτοκινήτου” το τελευταίο χρόνο (2021). Ενημερωθείτε για την συνδρομή ΕΔΩ. \n\n\n\nΠληροφορίες  και Δηλώσεις Συμμετοχής\nΓια συμμετοχές συμπληρώστε την αντίστοιχη φόρμα δεξιά – σε κινητά τηλ. στο τέλος – της οθόνης.  \nΓια οποιαδήποτε άλλη πληροφορία επικοινωνήστε με το Ινστιτούτο Διαρκούς Επιμόρφωσης Επιχειρήσεων Αυτοκινήτου στα \n 2102825611 \n\n 2106754419 \n\n dtp@ideea.gr \n\n\n\nΔίνεται Ονομαστική Βεβαίωση Παρακολούθησης και Αυτοκόλλητο σήμα εξωτερικού χώρου του εκπαιδευμένου Συνεργείου\n\n\nΕισηγητές\n\nΒΑΣΙΛΗΣ ΚΑΦΑΝΤΑΡΗΣΤΕΧΝ. ΜΗΧ. ΟΧΗΜΑΤΩΝΕκπαιδευτής ΙΔΕΕΑ πιστοποιημένος από το Εθνικό Κέντρο Πιστοποίησης Δομών Δια Βίου Μάθησης και πιστοποιημένος μηχανικός στην Υψηλή Τάση \n\n\nΠΕΤΡΟΣ ΚΑΡΑΜΠΙΛΑΣΤΕΧΝ. ΜΗΧ. ΟΧΗΜΑΤΩΝΔ/ντής & Εκπαιδευτής ΙΔΕΕΑ πιστοποιημένος από το Εθνικό Κέντρο Πιστοποίησης Δομών Δια Βίου Μάθησης \n\n\nΝΙΚΟΣ ΞΥΔΙΑΣΤΕΧΝ. ΜΗΧ. ΟΧΗΜΑΤΩΝΕκπαιδευτής ΙΔΕΕΑ πιστοποιημένος από το Εθνικό Κέντρο Πιστοποίησης Δομών Δια Βίου Μάθησης και πιστοποιημένος μηχανικός στην Υψηλή Τάση \n\n\nΓΙΩΡΓΟΣ ΚΑΠΕΤΑΝΑΚΗΣΤΕΧΝ. ΜΗΧ. ΟΧΗΜΑΤΩΝΤεχνικός Δ/ντης & Εκπαιδευτής ΙΔΕΕΑ πιστοποιημένος από το Εθνικό Κέντρο Πιστοποίησης Δομών Δια Βίου Μάθησης
URL:https://ideea.gr/event/electric-3/
LOCATION:ΚΑΠΛΑΝΤΖΗΣ ΑΛΕΞΑΝΔΡΟΣ\, Φυλής 189\, Ίλιον\, Αττική\, 13122\, Ελλάδα
CATEGORIES:Webinars,Υβριδική μορφή Εκπαίδευσης
ATTACH;FMTTYPE=image/jpeg:https://ideea.gr/wp-content/uploads/2021/05/ELECTRICAL-TRAINED-LOGO_Page_1-scaled.jpg
ORGANIZER;CN="%CE%99%CE%BD%CF%83%CF%84%CE%B9%CF%84%CE%BF%CF%8D%CF%84%CE%BF%20%CE%99%CE%94%CE%95%CE%95%CE%91":MAILTO:dtp@ideea.gr
GEO:38.044950867852;23.715553015058
X-APPLE-STRUCTURED-LOCATION;VALUE=URI;X-ADDRESS=ΚΑΠΛΑΝΤΖΗΣ ΑΛΕΞΑΝΔΡΟΣ Φυλής 189 Ίλιον Αττική 13122 Ελλάδα;X-APPLE-RADIUS=500;X-TITLE=Φυλής 189:geo:23.715553015058,38.044950867852
END:VEVENT
END:VCALENDAR