BEGIN:VCALENDAR
VERSION:2.0
PRODID:-//IDEEA - ECPv5.6.0//NONSGML v1.0//EN
CALSCALE:GREGORIAN
METHOD:PUBLISH
X-WR-CALNAME:IDEEA
X-ORIGINAL-URL:https://ideea.gr
X-WR-CALDESC:IDEEA - Εκδηλώσεις
BEGIN:VTIMEZONE
TZID:Europe/Moscow
BEGIN:STANDARD
TZOFFSETFROM:+0300
TZOFFSETTO:+0300
TZNAME:MSK
DTSTART:20220101T000000
END:STANDARD
END:VTIMEZONE
BEGIN:VEVENT
DTSTART;TZID=Europe/Moscow:20220409T090000
DTEND;TZID=Europe/Moscow:20220410T170000
DTSTAMP:20260423T090637
CREATED:20220111T120859Z
LAST-MODIFIED:20220729T225639Z
UID:5005-1649494800-1649610000@ideea.gr
SUMMARY:Ψηφιακές επικοινωνίες εγκεφάλων Can bus\, Lin bus\, Most\, Flexray\, Bluetooth\, Πολύμετρο - Παλμογράφος
DESCRIPTION: Σάββατο 09 Απριλίου & Κυριακή 10 Απριλίου  09:00-17:00 \nΣΕΜΙΝΑΡΙΑ ΠΡΟΕΤΟΙΜΑΣΙΑΣ ΤΕΧΝΙΤΗ ΗΛΕΚΤΡΟΚΙΝΗΣΗΣ. Ολα οσα πρεπει να γνωριζετε για την επερχομενη αποκτηση πιστοποιησης\nΗ θεματολογία που θα παρουσιαστεί και θα αναλυθεί είναι η ακόλουθη \n\n\nYποστηριζόμενες μάρκες: Audi\, VW\, Skoda\, Opel\, Hyundai\nΤι είναι ένα Δίκτυο Διαύλου Δεδομένων\,\nΠοια είναι τα εξαρτήματα του συστήματος διαύλου C-CAN\nΠοια είναι η διαδικασία μεταφοράς δεδομένων\nΠώς παράγεται το πρωτόκολλο δεδομένων\nΠοιο είναι το πρωτόκολλο του διαύλου δεδομένων\nΠοιες είναι οι 7 περιοχές της δομής του  πρωτοκόλλου\nΤι είναι ο δίαυλος δεδομένων C-CAN & Β-CAN και ποια τα εξαρτήματα\nΤι είναι ο Δίαυλος LIN Bus\nΤι κάνει η γραμμή επικοινωνίας K\nΠοια είναι η ανταλλαγή δεδομένων στον δίαυλο δεδομένων CAN\nΠοια είναι η Αρχή Λειτουργίας της Πύλης Δικτύου\nΤι είναι το Σύστημα διαύλου δεδομένων LIN & Bluetooth και ποιες οι τοπολογίες τους\nΤι είναι το FlexRay και Most\nΠοια είναι η Διαχείριση σφαλμάτων Διαύλου CAN\nΠως γίνεται η διερεύνηση βλαβών διαύλου CAN\nΤι είναι ένα CAN Test Box και τι μπορεί να χρειάζεται\nΠοιους ελέγχους πραγματοποιούμε και τι είναι η τερματική αντίσταση\nΔιάγνωση & Έλεγχοι με Πολύμετρο & Παλμογράφο – Οι κυματομορφές σας τα λένε όλα κι εμείς απλά σας δίνουμε την ερμηνείας τους!\nΔιάγνωση μέσω του νέου πρωτοκόλλου Doip (diagnosis over ip) – Ethernet\nΠρακτική – Μετρήσεις εξαρτημάτων\n\nΣτην Πρακτική* θα παρέχεται η δυνατότητα συμμετοχής με φυσική παρουσία στον χώρο διεξαγωγής της σύμφωνα πάντα με τους ισχύοντες κανόνες του ΕΟΔΥ για την αντιμετώπιση του Covid-19. Στα πλαίσια του νέου Υβριδικού Τύπου εκπαίδευσης η Πρακτική Εξάσκηση θα μεταδοθεί και ζωντανά μεσω web (webinar). \n*H Πρακτική θα πραγματοποιηθεί Κυριακή και ώρα 16:00 (Μετά τη θεωρία θα υπάρξει διάλειμμα ωστε όσοι συμμετέχοντες επιθυμούν να προσέλθουν στον χώρο της πρακτικής) \n\n\nΔείτε Επίσης\n\n\nΑρχές Ηλεκτρισμού Πολύμετρο – Παλμογράφος – Έλεγχος Συστημάτων Ανάφλεξης\, Φόρτισης\, Εκκίνησης\nΣάββατο 5 Φεβρουαρίου 9:00-17:00 και Κυριακή 6 Φεβρουαρίου 9:00-17:00 […] \n\nΣεμινάριο Ηλεκτρονικά στο αυτοκίνητο\, Αισθητήρες -Ενεργοποιητές Έλεγχοι με Πολύμετρο -Παλμογράφο\nΣάββατο 19 Μαρτίου 9:00-17:00 και Κυριακή 20 Μαρτίου 9:00-17:00 […] \n\nKόστος Συμμετοχής Συνδρομητών*\n\n\n\n\n\n\n1 Σεμινάριο\n2 Σεμινάρια\n3 Σεμινάρια\n\n\n\n\nΣυνδρομητές\n\n260 €\n480 €\n645 €\n\n\nΜη Συνδρομητές\n645 €\n590 €\n870 €\n\n\n\n\n\n\nΠεριορισμένες θέσεις συμμετοχής\nΟι τιμές περιλαμβάνουν ΦΠΑ. \n*Για να ισχύσει η τιμή του συνδρομητή θα πρέπει να είστε συνδρομητές στην Εφημερίδα “Το Συνεργείο του Αυτοκινήτου” το τελευταίο χρόνο (2021). Ενημερωθείτε για την συνδρομή ΕΔΩ \n\n\n\nΠληροφορίες  και Δηλώσεις Συμμετοχής\nΓια συμμετοχές συμπληρώστε την αντίστοιχη φόρμα δεξιά – σε κινητά τηλ. στο τέλος – της οθόνης.  \nΓια οποιαδήποτε άλλη πληροφορία επικοινωνήστε με το Ινστιτούτο Διαρκούς Επιμόρφωσης Επιχειρήσεων Αυτοκινήτου στα \n 2102825611 \n\n 2106754419 \n\n dtp@ideea.gr \n\n\n\nΔίνεται Ονομαστική Βεβαίωση Παρακολούθησης\n\nΕισηγητές\n\nΒΑΣΙΛΗΣ ΚΑΦΑΝΤΑΡΗΣΤΕΧΝ. ΜΗΧ. ΟΧΗΜΑΤΩΝΕκπαιδευτής ΙΔΕΕΑ πιστοποιημένος από το Εθνικό Κέντρο Πιστοποίησης Δομών Δια Βίου Μάθησης και πιστοποιημένος μηχανικός στην Υψηλή Τάση \n\n\nΠΕΤΡΟΣ ΚΑΡΑΜΠΙΛΑΣΤΕΧΝ. ΜΗΧ. ΟΧΗΜΑΤΩΝΔ/ντής & Εκπαιδευτής ΙΔΕΕΑ πιστοποιημένος από το Εθνικό Κέντρο Πιστοποίησης Δομών Δια Βίου Μάθησης \n\n\nΝΙΚΟΣ ΞΥΔΙΑΣΤΕΧΝ. ΜΗΧ. ΟΧΗΜΑΤΩΝΕκπαιδευτής ΙΔΕΕΑ πιστοποιημένος από το Εθνικό Κέντρο Πιστοποίησης Δομών Δια Βίου Μάθησης και πιστοποιημένος μηχανικός στην Υψηλή Τάση \n\n 
URL:https://ideea.gr/event/arxes-palmografos-3/
LOCATION:AutomarineGas\, Λεωφ. Μαραθώνος 69\, Νέα Μάκρη\, Αττική\, 19005\, Ελλάδα
CATEGORIES:Webinars,Υβριδική μορφή Εκπαίδευσης
ATTACH;FMTTYPE=image/jpeg:https://ideea.gr/wp-content/uploads/2020/11/seminariocan-bus-lin-bus.jpg
ORGANIZER;CN="%CE%99%CE%BD%CF%83%CF%84%CE%B9%CF%84%CE%BF%CF%8D%CF%84%CE%BF%20%CE%99%CE%94%CE%95%CE%95%CE%91":MAILTO:dtp@ideea.gr
GEO:38.0806485;23.9796633
X-APPLE-STRUCTURED-LOCATION;VALUE=URI;X-ADDRESS=AutomarineGas Λεωφ. Μαραθώνος 69 Νέα Μάκρη Αττική 19005 Ελλάδα;X-APPLE-RADIUS=500;X-TITLE=Λεωφ. Μαραθώνος 69:geo:23.9796633,38.0806485
END:VEVENT
END:VCALENDAR