BEGIN:VCALENDAR
VERSION:2.0
PRODID:-//IDEEA - ECPv5.6.0//NONSGML v1.0//EN
CALSCALE:GREGORIAN
METHOD:PUBLISH
X-WR-CALNAME:IDEEA
X-ORIGINAL-URL:https://ideea.gr
X-WR-CALDESC:IDEEA - Εκδηλώσεις
BEGIN:VTIMEZONE
TZID:Europe/Moscow
BEGIN:STANDARD
TZOFFSETFROM:+0300
TZOFFSETTO:+0300
TZNAME:MSK
DTSTART:20260101T000000
END:STANDARD
END:VTIMEZONE
BEGIN:VEVENT
DTSTART;TZID=Europe/Moscow:20260129T183000
DTEND;TZID=Europe/Moscow:20260129T213000
DTSTAMP:20260420T201559
CREATED:20251125T083945Z
LAST-MODIFIED:20260209T072837Z
UID:7036-1769711400-1769722200@ideea.gr
SUMMARY:SGW - Πύλη Ασφαλείας: Εμπόδιο ή τείχος Κυβερνοπροστασίας;
DESCRIPTION:Τεχνικό Σεμινάριο\nSGW – Πύλη Ασφαλείας: Εμπόδιο ή τείχος Κυβερνοπροστασίας;\n“Πέρασμα Ασφάλειας ή Φραγή Εξέλιξης στο μηδενισμό βλαβών;”\nΠέμπτη 29 Ιανουαρίου 2026\, 18.30 – 21.30 μέσω Υπολογιστή (Webinars)\n\n\nΠότε αρχίζει να εφαρμόζει το Secure Gateway η FCA;\nΠοιες άλλες εταιρείες το έχουν υιοθετήσει την SGW;\nΠως αντέδρασαν οι εταιρείες διαγνωστικών;\nΤι είναι η Πλατφόρμα AutoAuth και ποιες οι Τεχνικές Ξεκλειδώματος της SGW.\nΤι ισχύει σήμερα μετά την καταδικαστική απόφαση της FCA από την CAR GLASS;\n\nKόστος Συμμετοχής\n\n\n\n\n\n\nΚόστος\n\n\n\n\nΣυνδρομητές\n\n60 €\n\n\nMη Συνδρομητές\n120 €\n\n\n\n\n\n(για κινητές συσκευές σύρετε τον πίνακα προς τα δεξιά για να δείτε τις τιμές)\n\nΠεριορισμένες θέσεις συμμετοχής\nΤμήματα ολιγομελή\nΟι τιμές περιλαμβάνουν ΦΠΑ. \n*Γραφείτε και εσείς συνδρομητές στην Εφημερίδα “Το Συνεργείο του Αυτοκινήτου” ΕΔΩ\nγια να επωφεληθείτε των προνομιακών τιμών. \nΣυμμετοχές – Πληροφορίες\nΓια συμμετοχές συμπληρώστε τη φόρμα δεξιά στην οθόνη (στα κινητά στο τέλος της οθόνης) ή επικοινωνήστε με το Ινστιτούτο Διαρκούς Επιμόρφωσης Επιχειρήσεων Αυτοκινήτου στα \n 2102825611 \n\n 2106754419 \n\n dtp@ideea.gr \n  \n\nΕκπαιδευτές\n\n\nΠ Καραμπίλας\n \n\n\n  \n\nΒ. Καφαντάρης\n \n\n\n\n  \nΔίνεται Ονομαστική Βεβαίωση Παρακολούθησης
URL:https://ideea.gr/event/sgw/
LOCATION:Μέσω Υπολογιστή
CATEGORIES:Webinars
ATTACH;FMTTYPE=image/jpeg:https://ideea.gr/wp-content/uploads/2025/11/sgw.jpg
ORGANIZER;CN="%CE%99%CE%BD%CF%83%CF%84%CE%B9%CF%84%CE%BF%CF%8D%CF%84%CE%BF%20%CE%99%CE%94%CE%95%CE%95%CE%91":MAILTO:dtp@ideea.gr
END:VEVENT
END:VCALENDAR