BEGIN:VCALENDAR
VERSION:2.0
PRODID:-//IDEEA - ECPv5.6.0//NONSGML v1.0//EN
CALSCALE:GREGORIAN
METHOD:PUBLISH
X-WR-CALNAME:IDEEA
X-ORIGINAL-URL:https://ideea.gr
X-WR-CALDESC:IDEEA - Εκδηλώσεις
BEGIN:VTIMEZONE
TZID:Europe/Moscow
BEGIN:STANDARD
TZOFFSETFROM:+0300
TZOFFSETTO:+0300
TZNAME:MSK
DTSTART:20240101T000000
END:STANDARD
END:VTIMEZONE
BEGIN:VEVENT
DTSTART;TZID=Europe/Moscow:20240610T183000
DTEND;TZID=Europe/Moscow:20240627T200000
DTSTAMP:20260421T015254
CREATED:20240523T063734Z
LAST-MODIFIED:20240730T085552Z
UID:6420-1718044200-1719518400@ideea.gr
SUMMARY:Σεμινάρια Τεχνίτη Υψηλής Τάσης Κατηγορίας 1 & 2
DESCRIPTION:Σεμινάρια για την επέκταση της άδειας άσκησης επαγγέλματος Τεχνίτη Υψηλής Τάσης κατηγορίας 1 & 2 (με βάση την Y.A Αριθμ. 151639)\nΩρολόγιο Πρόγραμμα\n• Σεμινάριο Τεχνίτη Υψηλής Τάσης Κατηγορίας 1\n\nΘεωρία (Δευτέρα 10 εώς και Πέμπτη 13 Ιουνίου 2024): 13 ώρες διαδικτυακά μέσω webinar\nΠρακτική (Σάββατο 15 Ιουνίου 2024): 7 ώρες με φυσική παρουσία – Δ/νση Αγ. Μελετίου 166\, Αθήνα 104 45 (πλησίον Μετρό Αττικής) Χάρτης\nΣύνολο: 20 ώρες \n \n\n\n\n\nΔΕΥΤΕΡΑ\n10/06/24\nΤΡΙΤΗ\n11/06/24\nΤΕΤΑΡΤΗ\n12/06/24\nΠΕΜΠΤΗ\n13/06/24\nΣάββατο\n15/06/24\n\n\n\n\n\n18.30-21.30\n18.30-21.30\n18.30-21.30\n18.30-20.00\n9.30-15.30\n\n\n\nΘεωρία\n(webinar)\nΘεωρία\n(webinar)\nΘεωρία\n(webinar)\nΘεωρία\n(webinar)\nΠρακτική\n(φυσική παρουσία)\n\n\n\n4 ώρες\n4 ώρες\n4 ώρες\n2 ώρες\n7 ώρες\n\n\n\n\n\n(σύρετε δεξιά-αριστερά για να δείτε όλο το πρόγραμμα) \n \nΔείτε το αναλυτικό πρόγραμμα \n• Σεμινάριο Τεχνίτη Υψηλής Τάσης Κατηγορίας 2\nΘεωρία (Δευτέρα 17/06 εώς και Πέμπτη 20/06 & Δευτέρα 24/06 εώς και Πέμπτη 27/06): 28 ώρες διαδικτυακά μέσω webinar\nΠρακτική (Σάββατο 29 & Κυριακή 30 Ιουνίου): 14 ώρες με φυσική παρουσία – Δ/νση Αγ. Μελετίου 166\, Αθήνα 104 45 (πλησίον Μετρό Αττικής) Χάρτης\nΣύνολο: 42 ώρες \n \n1η εβδομάδα \n\n\n\n\nΔΕΥΤΕΡΑ\n17/06/24\nΤΡΙΤΗ\n18/06/24\nΤΕΤΑΡΤΗ\n19/06/24\nΠΕΜΠΤΗ\n20/06/24\nΠΑΡΑΣΚΕΥΗ\n21/06/24\nΣΑΒΒΑΤΟ\n22/06/24\nΚΥΡΙΑΚΗ\n23/06/24\n\n\n\n\n18.30-20.45\n18.30-21.30\n18.30-21.30\n18.30-21.30\nΧ\nΧ\nΧ\n\n\n\nΘεωρία\n(webinar)\nΘεωρία\n(webinar)\nΘεωρία\n(webinar)\nΘεωρία\n(webinar)\nΧ\nΧ\nΧ\n\n\n3 ώρες\n3 ώρες\n4 ώρες\n4 ώρες\nΧ\nΧ\nΧ\n\n\n\n\n(σύρετε δεξιά-αριστερά για να δείτε όλο το πρόγραμμα) \n \n \n2η εβδομάδα \n\n\n\n\nΔΕΥΤΕΡΑ\n24/06/24\nΤΡΙΤΗ\n25/06/24\nΤΕΤΑΡΤΗ\n26/06/24\nΠΕΜΠΤΗ\n27/06/24\n\nΣΑΒΒΑΤΟ\n29/06/24\nΚΥΡΙΑΚΗ\n30/06/24\n\n\n\n\n18.30-21.30\n18.30-20.45\n18.30-21.30\n18.30-20.00\n\n9.30-15.30\n9.30-15.30\n\n\nΘεωρία\n(webinar)\nΘεωρία\n(webinar)\nΘεωρία\n(webinar)\nΘεωρία\n(webinar)\n\nΠρακτική\n(φυσική παρουσία)\nΠρακτική\n(φυσική παρουσία)\n\n\n4 ώρες\n4 ώρες\n4 ώρες\n2 ώρες\n\n7 ώρες\n7 ώρες\n\n\n\n\n(σύρετε δεξιά-αριστερά για να δείτε όλο το πρόγραμμα) \n \nΔείτε το αναλυτικό πρόγραμμα \n\nΕκπαιδευτική Ύλη\n\nΕισαγωγή στην τεχνολογία των οχημάτων υψηλής τάσης\nΒασικές αρχές λειτουργίας ηλεκτρικών κινητήρων\nΗλεκτρική διαχείριση ενέργειας – Στοιχεία κινητήριων μονάδων\nΗλεκτρική ενέργεια\nΜέτρα ασφάλειας\nΣυντήρηση – Εξοπλισμός – Έλεγχοι ηλεκτρικών συστημάτων\nΦορτιστές ηλεκτρικών οχημάτων\nΤύποι και δίκτυα επικοινωνίας ηλεκτρονικών μονάδων\nΝομοθεσία ηλεκτρικών οχημάτων και συνεργείων οχημάτων υψηλής τάσης\nΠρακτική Άσκηση\n\n\n\nTo ΙΔΕΕΑ Έμπρακτα κοντά σας \nΔωρεάν Βοηθητικό Εκπαιδευτικό Υλικό: \nγια την Κατηγορία 1:\nΈνα Βιντεοσκοπημένο Σεμινάριο\n• Ηλεκτρικά στο Αυτοκίνητο Αξίας 440 €  \nγια την Κατηγορία 2:\n2 Βιντεοσκοπημένα Σεμινάρια:\n• Ηλεκτρονικά στο Αυτοκίνητο Αξίας 440 €\n• Δίκτυα Επικοινωνίας Εγκεφάλων Αξίας 520 € \nΣτόχος του Εκπαιδευτικού Προγράμματος\nΗ μετάβαση στην νέα εποχή της Ηλεκτροκίνησης απαιτεί την απόκτηση της κορυφαίας τεχνικής γνώσης αλλά και δεξιοτήτων που δεν είναι πρωτογενώς παραγόμενη αλλά εισαγόμενη όπως συνηθίζουμε να επικοινωνούμε στα σεμινάριά μας. Το τρίγωνο της επιτυχημένης διάγνωσης\, επισκευής και συντήρησης οχημάτων υψηλής τάσης έχει τις εξής προϋποθέσεις: \n\nΓνώση\nΔιαγνωστικός εξοπλισμός & ειδικά εργαλεία\nΠρόσβαση στην πληροφορία\n\nΣτόχος η επέκταση της ήδη υπάρχουσας άδειας άσκησης επαγγέλματος σε «Άδεια άσκησης επαγγέλματος τεχνίτη οχημάτων υψηλής τάσης Κατηγορίας 1 και 2». \nΗ εκπαίδευση για πρώτη φορά ενσωματώνει ένα κεφάλαιο νομοθεσίας η οποία αφορά το Συνεργείο και την λειτουργία του\, ως συνεργείο οχημάτων υψηλής τάσης (μέχρι 3.5 tn μέχρι αυτή τη στιγμή)\, την άδεια άσκησης επαγγέλματος αλλά και τους φορτιστές και την εγκατάστασή τους. \nΣτις νομοθετικές διατάξεις για τα οχήματα υψηλής τάσης\, αποσαφηνίζεται η γνώση των νομοθετημένων μέτρων για την ασφάλεια των εργασιών σε οχήματα Υ.Τ καθώς και την εργασία σε συνεργεία οχημάτων υψηλής τάσης\, την αναγνώριση του αυτοκινήτου Υ.Τ\, τη σήμανση\, τον καθορισμό της θέσης εργασίας\, τη χρήση Μέσων Ατομικής Προστασίας και ειδικού εξοπλισμού (θερμική κάμερα υπερύθρων)\, την αντιμετώπιση πυρκαγιάς και φυσικά τη φύλαξη και απομάκρυνση μπαταριών Υ.Τ. \nΑξιολόγηση εκπαιδευομένων με γραπτές εξετάσεις μέσω Ηλεκτρονικής Πλατφόρμας ΙΔΕΕΑ\n\n30 Τυχαίες ερωτήσεις για κάθε Κατηγορία συνολικά για τον κάθε εκπαιδευόμενο διαβαθμισμένης δυσκολίας προερχόμενες από μία «δεξαμενή» ερωτήσεων που καλύπτει όλη την ύλη. \nΤο εργαλείο των εξετάσεων είναι αυτοματοποιημένο\, επικοινωνεί αμέσως τα αποτελέσματα και δεν απαιτεί την παραμικρή ανθρώπινη παρέμβαση. Το Ψηφιακό αποτέλεσμα των γραπτών εξετάσεων αποθηκεύεται ηλεκτρονικά και καταχωρείται στον φάκελο του κάθε εξεταζόμενου. \nΣτην συνέχεια το Ινστιτούτο ΙΔΕΕΑ σας αποστέλλει τη σχετική βεβαίωση που εκδίδει το συνεργαζόμενο Κέντρο Δια Βίου Μάθησης. \nΠροϋποθέσεις συμμετοχής στο πρόγραμμα\nΟι ελάχιστες προϋποθέσεις συμμετοχής στο πρόγραμμα\, σύμφωνα με την ισχύουσα νομοθεσία αναφέρονται στην αντίστοιχη φόρμα δεξιά της οθόνης (σε κινητά τηλέφωνα θα βρείτε τη φόρμα στο τέλος της οθόνης). \nΤο εκπαιδευτικό πρόγραμμα μπορούν να το παρακολουθήσουν και άλλες ειδικότητες Επισκευαστών ή τεχνίτες – εργαζόμενοι σε επισκευαστικές επιχειρήσεις\, όπως πχ. Φανοβαφείς που εμπλέκονται με την επισκευή υβριδικών-ηλεκτρικών οχημάτων Υ.Τ. Φυσικά μπορούν να παρακολουθήσουν μελλοντικοί τεχνίτες επισκευής (ηλικίας >18 χρονών) συμβατικών οχημάτων που σκοπεύουν στην επέκταση της άδειας άσκησης επαγγέλματος στα οχήματα Υ.Τ. \nΣυμμετοχές – Πληροφορίες\nΓια συμμετοχές συμπληρώστε τη φόρμα δεξιά στην οθόνη (στα κινητά στο τέλος της οθόνης) ή επικοινωνήστε με το Ινστιτούτο Διαρκούς Επιμόρφωσης Επιχειρήσεων Αυτοκινήτου στα \n 2102825611 \n \n 2106754419 \n \n dtp@ideea.gr \n \n\nΠερισσότερες πληροφορίες σχετικά με τα Σεμινάρια του Ινστιτούτου ΙΔΕΕΑ για την επέκταση της άδειας άσκησης επαγγέλματος Τεχνίτη Υψηλής Τάσης κατηγορίας 1 και 2 (με βάση την Y.A Αριθμ. 151639) μπορείτε να διαβάσετε εδώ \nΕισηγητές\n  \n \n \n \nΓ. Καπετανάκης\n \n \n\n \n \n \n \nX. Βόντας\n \n \n \n \n \n \nΒ. Καφαντάρης\n \n \n \n \n \n \n  \n \n \nΑ. Κοντογεώργης\n \n \n \n \n \n \nΑ. Κοτσιλιέρης\n \n \n \n \n \n\n \nΥπεύθυνος Προγράμματος \n \n \n \nΠ. Καραμπίλας
URL:https://ideea.gr/event/seminar-texniti-ipsilis-tasis-iounios/
LOCATION:Μέσω Υπολογιστή
CATEGORIES:Webinars,ΤΕΧΝΙΤΗΣ ΥΨΗΛΗΣ ΤΑΣΗΣ
ATTACH;FMTTYPE=image/jpeg:https://ideea.gr/wp-content/uploads/2023/09/SEMINAR-YT.jpg
ORGANIZER;CN="%CE%99%CE%BD%CF%83%CF%84%CE%B9%CF%84%CE%BF%CF%8D%CF%84%CE%BF%20%CE%99%CE%94%CE%95%CE%95%CE%91":MAILTO:dtp@ideea.gr
END:VEVENT
END:VCALENDAR