BEGIN:VCALENDAR
VERSION:2.0
PRODID:-//IDEEA - ECPv5.6.0//NONSGML v1.0//EN
CALSCALE:GREGORIAN
METHOD:PUBLISH
X-WR-CALNAME:IDEEA
X-ORIGINAL-URL:https://ideea.gr
X-WR-CALDESC:IDEEA - Εκδηλώσεις
BEGIN:VTIMEZONE
TZID:Europe/Moscow
BEGIN:STANDARD
TZOFFSETFROM:+0300
TZOFFSETTO:+0300
TZNAME:MSK
DTSTART:20250101T000000
END:STANDARD
END:VTIMEZONE
BEGIN:VEVENT
DTSTART;TZID=Europe/Moscow:20251204T183000
DTEND;TZID=Europe/Moscow:20251204T213000
DTSTAMP:20260420T201924
CREATED:20251124T135351Z
LAST-MODIFIED:20251205T071358Z
UID:6997-1764873000-1764883800@ideea.gr
SUMMARY:Tεχνικό σεμινάριο Πως λειτουργεί ένα ηλεκτρικό αυτοκίνητο
DESCRIPTION:Τεχνικό Σεμινάριο. Πως λειτουργεί ένα ηλεκτρικό αυτοκίνητο; – Από την Πρίζα στον Τροχό\nΤο μίγμα συστημάτων & Εξαρτημάτων για τη λειτουργία του Ηλεκτρικού συστήματος μετάδοσης κίνησης\n\nΠέμπτη 4  Δεκεμβρίου 18.30 – 21.30 μέσω Υπολογιστή (Webinars)\n\nΗ βασική αρχή αποτελεί την θεμελιώδη διαφορά από ένα αυτοκίνητο με κινητήρα εσωτερικής καύσης (ΜΕΚ)\, που αντικαθιστά τον βενζινοκινητήρα ή πετρελαιοκινητήρα με έναν ή περισσότερους ηλεκτροκινητήρες. \n\nΠοιες οι διαδικασίες Λειτουργίας;\nΜονάδα Ελέγχου – Μπαταρία – Μετατροπέας (Inverter) – Ηλεκτροκινητήρας\nΛειτουργία σε: Εκκίνηση/Επιτάχυνση & Πέδηση/Επιβράδυνση\nΦόρτιση AC (Αργή/Κανονική) / DC (Γρήγορη)\nΚαι με την Tesla πει κάποιος τις αρχές λειτουργία ή / και τις διαφορές;\n\nKόστος Συμμετοχής\n\n\n\n\n\n\nΚόστος\n\n\n\n\nΣυνδρομητές\n\n60 €\n\n\nMη Συνδρομητές\n120 €\n\n\n\n\n\n(για κινητές συσκευές σύρετε τον πίνακα προς τα δεξιά για να δείτε τις τιμές)\n\nΠεριορισμένες θέσεις συμμετοχής\nΤμήματα ολιγομελή\nΟι τιμές περιλαμβάνουν ΦΠΑ. \n*Γραφείτε και εσείς συνδρομητές στην Εφημερίδα “Το Συνεργείο του Αυτοκινήτου” ΕΔΩ\nγια να επωφεληθείτε των προνομιακών τιμών. \nΣυμμετοχές – Πληροφορίες\nΓια συμμετοχές συμπληρώστε τη φόρμα δεξιά στην οθόνη (στα κινητά στο τέλος της οθόνης) ή επικοινωνήστε με το Ινστιτούτο Διαρκούς Επιμόρφωσης Επιχειρήσεων Αυτοκινήτου στα \n 2102825611 \n\n 2106754419 \n\n dtp@ideea.gr \n  \n\nΕκπαιδευτές\n\n\nΠ Καραμπίλας\n \n\n\n  \n\nΒ. Καφαντάρης\n \n\n\n\nΑ. Κοντογεώργης\n \n\n\n\n  \nΔίνεται Ονομαστική Βεβαίωση Παρακολούθησης
URL:https://ideea.gr/event/pos-leitourgei-ena-ilektriko-autokinito/
LOCATION:Μέσω Υπολογιστή
CATEGORIES:Webinars
ATTACH;FMTTYPE=image/jpeg:https://ideea.gr/wp-content/uploads/2025/11/electric-vehicle-charger-plug-with-digital-display.jpg
ORGANIZER;CN="%CE%99%CE%BD%CF%83%CF%84%CE%B9%CF%84%CE%BF%CF%8D%CF%84%CE%BF%20%CE%99%CE%94%CE%95%CE%95%CE%91":MAILTO:dtp@ideea.gr
END:VEVENT
END:VCALENDAR