BEGIN:VCALENDAR
VERSION:2.0
PRODID:-//IDEEA - ECPv5.6.0//NONSGML v1.0//EN
CALSCALE:GREGORIAN
METHOD:PUBLISH
X-WR-CALNAME:IDEEA
X-ORIGINAL-URL:https://ideea.gr
X-WR-CALDESC:IDEEA - Εκδηλώσεις
BEGIN:VTIMEZONE
TZID:Europe/Moscow
BEGIN:STANDARD
TZOFFSETFROM:+0300
TZOFFSETTO:+0300
TZNAME:MSK
DTSTART:20210101T000000
END:STANDARD
END:VTIMEZONE
BEGIN:VEVENT
DTSTART;TZID=Europe/Moscow:20210525T180000
DTEND;TZID=Europe/Moscow:20210527T203000
DTSTAMP:20260421T085551
CREATED:20210509T175814Z
LAST-MODIFIED:20210528T131819Z
UID:4556-1621965600-1622147400@ideea.gr
SUMMARY:3-ήμερο Tεχνικό Σεμινάριο Συστήματα Φρένων Επιβατικών Οχημάτων
DESCRIPTION:3-ήμερο Tεχνικό Σεμινάριο Συστήματα Φρένων Επιβατικών Οχημάτων\nH Βίβλος των συστημάτων & εξαρτημάτων φρένων σε 3 μέρες\n(Bosch – ΑΤΕ – Bendix – Lucas – Girling – Delphi – Citroen – Honda – Mazda)\n\n Τρίτη 25\, Τετάρτη 26 & Πέμπτη 27 Μαΐου 2021  18:00-20:30 \n ΔΩΡΟ: Το Βιντεοσκοπημένο Σεμινάριο Αλήθειες & Μύθοι για τα Φρένα Αξίας 70 ευρώ\n• Βασική ορολογία\n• Υδραυλικά συστήματα – εξαρτήματα\n• Λίγη φυσική\n• Κυκλώματα πέδησης\n• Κεντρική αντλία φρένων / Κύλινδρος 2 διαμέτρων\, κεντρική βαλβίδα\, TCM8 / Ελεγχόμενη κεντρική αντλία\n• Σερβόφρενο – κατασκευή\, λειτουργία\, εξαρτήματα\n• Σερβό διπλής μεμβράνης\, διπλού κενού\, ΝΟΑΗ\n• Σερβόφρενο Η31 – κατασκευή & λειτουργία\n• Μειωτήρας δύναμης πέδησης & εξαρτώμενος βάρους\n• Φρένα τροχών\, υλικά τριβής\, προδιαγραφές / κεραμικά φρένα\n• Ταμπούρα φρένων & Δισκόφρενα / είδη και κατασκευή\, λειτουργία\, πλεονεκτήματα – μειονεκτήματα\n• Περιπτώσεις επισκευής\, συνοδευτικά εξαρτήματα\n• Έλεγχοι\, μετρήσεις\, ρυθμίσεις\, έλεγχοι πίεσης\n• Αιτίες βλαβών\n• Δαγκάνες / σταθερή\, ολισθαίνουσα\, επιπλέουσα\, Girling\, ATE\, Bosch\n• Φυσική στην οδήγηση\, δυνάμεις στον τροχό\, τριβή\, ολίσθηση\n• Βασικές αρχές και εξαρτήματα συστημάτων φρένων\n• Αισθητήρες τροχών (επαγωγικός\, ενεργός\, έξυπνος ενεργός)\n• Επισκόπηση και εξέλιξη συστημάτων ABS / λειτουργίες\, κυκλώματα ελέγχου\, αριθμός καναλιών (4\,3\,2)\n• Λειτουργία\, κατασκευή\, διαγράμματα ηλεκτρικά & υδραυλικά συστημάτων: \nABS 2S\nABS 2E\nABS 5.x\nABS 8 & 8.1\nEBV Electronic Brake Distribution \n• Σύστημα ελέγχου ροπής περιστροφής οχήματος (Yaw)\, GMA1\, GMA2\n• ABS 4 wheel drive\n• Εισαγωγή στο ASR / MSR\n• ASR / ABD – Έλεγχος\, ενδεικτικά λαμπάκια\n• ASR 2i DKB – Εξαρτήματα\, κατασκευή\, λειτουργία\, διαγράμματα\n• ADS – Διασυνδέσεις συστημάτων\n• ESP – Λειτουργία\, χαρακτηριστικά\, αισθητήρες\, κυκλώματα\n• ESP 8 – Μονάδα ελέγχου\, λειτουργία\, αισθητήρες\, λειτουργίες ασφαλείας\n• ESP plus – Επιπλέον λειτουργίες\n• SBC – Λειτουργία\, μονάδες σύνδεσης\, κυκλώματα\, ενδείξεις\, διάγνωση\n• ESP premium – Επιπλέον λειτουργίες\n• APB – Renault & BMW\n• Adaptive Cruise Control – Λειτουργίες\, αισθητήρες\, σύνδεση μονάδων\n• Μονάδες\, διαγράμματα\, εξαρτήματα συστημάτων: \n• ABS ATE II\n• ASR ATE II\n• ABS / ASR ATE IV\n• ABS / ASR ATE MK20\n• ABS ATE New systems (MK20\, MK60\, MK70) \n• Citroen Braking System – Υδραυλικό διάγραμμα\, συντήρηση\n• Κατασκευή & λειτουργία\, εξαρτήματα\, διαγράμματα συστημάτων: \n• Bendix Mecatronic\n• Girling SCS\n• Honda ALB1\n• Lucas ABS F\n• Mazda Sumitomo ABS\n• Kelsey Hayes 415 / 430\n• Delphi ABS VI \n\nMε την ευγενική χορηγία\n\n\n\n\n\n\n\n\n\nKόστος Συμμετοχής\n\n\n\n\n\n\nΚόστος\n\n\n\n\nΣυνδρομητές\n\n135 €\n\n\nMη Συνδρομητές\n240 €\n\n\n\n\n\n(για κινητές συσκευές σύρετε τον πίνακα προς τα δεξιά για να δείτε τις τιμές)\n\nΠεριορισμένες θέσεις συμμετοχής\nΟι τιμές περιλαμβάνουν ΦΠΑ. \n*Γραφείτε και εσείς συνδρομητές στην Εφημερίδα “Το Συνεργείο του Αυτοκινήτου” ΕΔΩ\nγια να επωφεληθείτε των προνομιακών τιμών. \n\nΠληροφορίες  και Δηλώσεις Συμμετοχής\nΣυμπληρώστε την αντίστοιχη φόρμα δεξιά – σε κινητά τηλ. στο τέλος – της οθόνης ή επικοινωνήστε με το Ινστιτούτο Διαρκούς Επιμόρφωσης Επιχειρήσεων Αυτοκινήτου στα \n 2102825611 \n\n 2106754419 \n\n dtp@ideea.gr \n\nΕισηγητές\n\nΒΑΣΙΛΗΣ ΚΑΦΑΝΤΑΡΗΣΤΕΧΝ. ΜΗΧ. ΟΧΗΜΑΤΩΝΕκπαιδευτής ΙΔΕΕΑ πιστοποιημένος από το Εθνικό Κέντρο Πιστοποίησης Δομών Δια Βίου Μάθησης και πιστοποιημένος μηχανικός στην Υψηλή Τάση \n\n\nΠΕΤΡΟΣ ΚΑΡΑΜΠΙΛΑΣΤΕΧΝ. ΜΗΧ. ΟΧΗΜΑΤΩΝΔ/ντής & Εκπαιδευτής ΙΔΕΕΑ πιστοποιημένος από το Εθνικό Κέντρο Πιστοποίησης Δομών Δια Βίου Μάθησης \n\n\nΝΙΚΟΣ ΞΥΔΙΑΣΤΕΧΝ. ΜΗΧ. ΟΧΗΜΑΤΩΝΕκπαιδευτής ΙΔΕΕΑ πιστοποιημένος από το Εθνικό Κέντρο Πιστοποίησης Δομών Δια Βίου Μάθησης και πιστοποιημένος μηχανικός στην Υψηλή Τάση \n\n  \n\nΔίνεται Ονομαστική Βεβαίωση Παρακολούθησης\n\n\n 
URL:https://ideea.gr/event/moderna-sistimata-pedisis/
LOCATION:Μέσω Υπολογιστή
CATEGORIES:Webinars
ATTACH;FMTTYPE=image/png:https://ideea.gr/wp-content/uploads/2021/05/sinxrona-frena1.png
ORGANIZER;CN="%CE%99%CE%BD%CF%83%CF%84%CE%B9%CF%84%CE%BF%CF%8D%CF%84%CE%BF%20%CE%99%CE%94%CE%95%CE%95%CE%91":MAILTO:dtp@ideea.gr
END:VEVENT
END:VCALENDAR