BEGIN:VCALENDAR
VERSION:2.0
PRODID:-//IDEEA - ECPv5.6.0//NONSGML v1.0//EN
CALSCALE:GREGORIAN
METHOD:PUBLISH
X-WR-CALNAME:IDEEA
X-ORIGINAL-URL:https://ideea.gr
X-WR-CALDESC:IDEEA - Εκδηλώσεις
BEGIN:VTIMEZONE
TZID:Europe/Moscow
BEGIN:STANDARD
TZOFFSETFROM:+0300
TZOFFSETTO:+0300
TZNAME:MSK
DTSTART:20260101T000000
END:STANDARD
END:VTIMEZONE
BEGIN:VEVENT
DTSTART;TZID=Europe/Moscow:20260127T183000
DTEND;TZID=Europe/Moscow:20260127T213000
DTSTAMP:20260420T201659
CREATED:20251125T081125Z
LAST-MODIFIED:20260209T072846Z
UID:7031-1769538600-1769549400@ideea.gr
SUMMARY:Ήπια Υβριδικά  Οχήματα -  MHEV – Αρχιτεκτονικές P0-P4
DESCRIPTION:Τεχνικό Σεμινάριο\nΉπια Υβριδικά Οχήματα – MHEV – Αρχιτεκτονικές P0-P4\nΤρίτη 27 Ιανουαρίου 2026\, 18.30 – 21.30 μέσω Υπολογιστή (Webinars)\n\n\nΟι Αρχιτεκτονικές βασίζονται στον συνδυασμό ενός θερμικού κινητήρα με έναν μικρό ηλεκτροκινητήρα 48V.\nΠάντα; Μήπως υπάρχουν εξαιρέσεις;\nO ηλεκτροκινητήρας στα MHEV συμβάλλει στην κίνηση του οχήματος;\nΓνωρίζετε τις διάφορες αρχιτεκτονικές ανάλογα με τη θέση και τον ρόλο του ηλεκτροκινητήρα;\nΓνωρίζετε τι είναι οι αρχιτεκτονικές P0\, P1\, P2\, P3 και P4;\nΥπάρχει και P2.5;\n\nKόστος Συμμετοχής\n\n\n\n\n\n\nΚόστος\n\n\n\n\nΣυνδρομητές\n\n60 €\n\n\nMη Συνδρομητές\n120 €\n\n\n\n\n\n(για κινητές συσκευές σύρετε τον πίνακα προς τα δεξιά για να δείτε τις τιμές)\n\nΠεριορισμένες θέσεις συμμετοχής\nΤμήματα ολιγομελή\nΟι τιμές περιλαμβάνουν ΦΠΑ. \n*Γραφείτε και εσείς συνδρομητές στην Εφημερίδα “Το Συνεργείο του Αυτοκινήτου” ΕΔΩ\nγια να επωφεληθείτε των προνομιακών τιμών. \nΣυμμετοχές – Πληροφορίες\nΓια συμμετοχές συμπληρώστε τη φόρμα δεξιά στην οθόνη (στα κινητά στο τέλος της οθόνης) ή επικοινωνήστε με το Ινστιτούτο Διαρκούς Επιμόρφωσης Επιχειρήσεων Αυτοκινήτου στα \n 2102825611 \n\n 2106754419 \n\n dtp@ideea.gr \n  \n\nΕκπαιδευτές\n\n\nΠ Καραμπίλας\n \n\n\n  \n\nΒ. Καφαντάρης\n \n\n\n\n  \nΔίνεται Ονομαστική Βεβαίωση Παρακολούθησης
URL:https://ideea.gr/event/mild-hybrid-system/
LOCATION:Μέσω Υπολογιστή
CATEGORIES:Webinars
ATTACH;FMTTYPE=image/jpeg:https://ideea.gr/wp-content/uploads/2025/11/Volvo-Electrified-Future.jpg
ORGANIZER;CN="%CE%99%CE%BD%CF%83%CF%84%CE%B9%CF%84%CE%BF%CF%8D%CF%84%CE%BF%20%CE%99%CE%94%CE%95%CE%95%CE%91":MAILTO:dtp@ideea.gr
END:VEVENT
END:VCALENDAR