BEGIN:VCALENDAR
VERSION:2.0
PRODID:-//IDEEA - ECPv5.6.0//NONSGML v1.0//EN
CALSCALE:GREGORIAN
METHOD:PUBLISH
X-WR-CALNAME:IDEEA
X-ORIGINAL-URL:https://ideea.gr
X-WR-CALDESC:IDEEA - Εκδηλώσεις
BEGIN:VTIMEZONE
TZID:Europe/Moscow
BEGIN:STANDARD
TZOFFSETFROM:+0300
TZOFFSETTO:+0300
TZNAME:MSK
DTSTART:20250101T000000
END:STANDARD
END:VTIMEZONE
BEGIN:VEVENT
DTSTART;TZID=Europe/Moscow:20251218T183000
DTEND;TZID=Europe/Moscow:20251218T203000
DTSTAMP:20260420T213745
CREATED:20251124T144456Z
LAST-MODIFIED:20260316T082507Z
UID:7009-1766082600-1766089800@ideea.gr
SUMMARY:Ηλεκτροκίνηση & οι επερχόμενες Τεχνολογικές Προκλήσεις στην αγορά των Συνεργείων 2025
DESCRIPTION:Δωρεάν Σεμινάριο μέσω Υπολογιστή (Webinar)\nΗλεκτροκίνηση & οι επερχόμενες Τεχνολογικές Προκλήσεις στην αγορά των Συνεργείων 2025.\n\n Πέμπτη 18/12/2025      18:30-20:30 \nΗ Μεγάλη Μετάβαση από τα εργαλεία και τα Κλειδιά στα Ηλεκτρικά Κυκλώματα & στον Κόσμο των Υψηλών Τάσεων – Στρατηγικές Επένδυσης και Εκπαίδευσης.\n\nΜια καταγραφή του Ινστιτούτου ΙΔΕΕΑ που δείχνει την μεγάλη εικόνα στην Ευρώπη για την Ηλεκτροκίνηση καταλήγοντας στην Ελλάδα. Η μεγάλη εικόνα ολοκληρώνεται με την μέχρι σήμερα αποτύπωση της εικόνας σχεδόν 300 συμμετεχόντων σε πανελλαδική έρευνα του Ινστιτούτου ΙΔΕΕΑ.  \n  \nΠληροφορίες\n 2102825611 \n\n 2106754419 \n\n dtp@ideea.gr \n\nΕκπαιδευτές\n\n\nΠ Καραμπίλας\n \n\n\n\n  \nΔίνεται Ονομαστική Βεβαίωση Παρακολούθησης\n\nΧορηγός Επικοινωνίας\n\nΕξουσιοδοτημένος Διανομέας για την Ελλάδα και Κύπρο:\nΜΗΧΑΝΟΕΚΔΟΤΙΚΗ\nΣαρανταπόρου 70\, 15231 Χαλάνδρι\, Τηλ.: 2106030442\nE-mail: mhhanoek [at] ath.forthnet.gr \n\n\n\n\n\n\n  \n\n 
URL:https://ideea.gr/event/ilektrokinish-kai-prokliseis-sinergeiwn/
LOCATION:Μέσω Υπολογιστή
CATEGORIES:Webinars
ATTACH;FMTTYPE=image/jpeg:https://ideea.gr/wp-content/uploads/2025/11/worker-fixes-damaged-car-motor-using-vr.jpg
ORGANIZER;CN="%CE%99%CE%BD%CF%83%CF%84%CE%B9%CF%84%CE%BF%CF%8D%CF%84%CE%BF%20%CE%99%CE%94%CE%95%CE%95%CE%91":MAILTO:dtp@ideea.gr
END:VEVENT
END:VCALENDAR