BEGIN:VCALENDAR
VERSION:2.0
PRODID:-//IDEEA - ECPv5.6.0//NONSGML v1.0//EN
CALSCALE:GREGORIAN
METHOD:PUBLISH
X-WR-CALNAME:IDEEA
X-ORIGINAL-URL:https://ideea.gr
X-WR-CALDESC:IDEEA - Εκδηλώσεις
BEGIN:VTIMEZONE
TZID:Europe/Moscow
BEGIN:STANDARD
TZOFFSETFROM:+0300
TZOFFSETTO:+0300
TZNAME:MSK
DTSTART:20210101T000000
END:STANDARD
END:VTIMEZONE
BEGIN:VEVENT
DTSTART;TZID=Europe/Moscow:20210518T180000
DTEND;TZID=Europe/Moscow:20210518T203000
DTSTAMP:20260421T102249
CREATED:20210509T170553Z
LAST-MODIFIED:20210525T134259Z
UID:4545-1621360800-1621369800@ideea.gr
SUMMARY:To Digital Marketing και η Διαφημιστική Προβολή του Συνεργείου σας
DESCRIPTION:To Digital Marketing και η Διαφημιστική Προβολή του Συνεργείου σας\nΠόσα μπορείτε να κάνετε μόνοι σας όταν γνωρίζετε τι θέλετε;\n\n Τρίτη 18 Μαΐου 2021  18:00-20:30 \n\nΗ τέχνη της επιτυχημένης Διαφήμισης;\nΜέσα – Media Διαφήμισης\nΤι είναι Διαφήμιση;\nΗ Κλιμάκωση της Διαφήμισης\nΑποτελεσματική Διαφήμιση\nΣτόχος & Τοποθέτηση\nΚοινό που απευθύνεστε (Target Group)\nΕπιλέξετε το σωστό διαφημιστικό Μέσο (Δίαυλος επικοινωνίας)\nΣυχνότητα προβολής\nΣχεδιασμός της διαφήμισης\nΤι να Προσέξετε στο Σχεδιασμό της Διαφήμισης\nΜυστικά της Επιτυχίας\nΆλλα έντυπα μέσα Διαφήμισης για το Ανεξάρτητο Συνεργείο\nWorld Wide Web ήwww ή Παγκόσμιος Ιστός\nInternet – Διαδίκτυο\nTwitter – Facebook – Instagram – Linked in\nΠρακτική επίδειξη- Δημιουργία διαφημιστικής εκδήλωσης & Διαφημιστικής προβολής στο Facebook\n\nKόστος Συμμετοχής\n\n\n\n\n\n\nΚόστος\n\n\n\n\nΣυνδρομητές\n\n45 €\n\n\nMη Συνδρομητές\n100 €\n\n\n\n\n\n(για κινητές συσκευές σύρετε τον πίνακα προς τα δεξιά για να δείτε τις τιμές)\n\nΠεριορισμένες θέσεις συμμετοχής\nΟι τιμές περιλαμβάνουν ΦΠΑ. \n*Γραφείτε και εσείς συνδρομητές στην Εφημερίδα “Το Συνεργείο του Αυτοκινήτου” ΕΔΩ\nγια να επωφεληθείτε των προνομιακών τιμών. \nΠληροφορίες  και Δηλώσεις Συμμετοχής\nΣυμπληρώστε την αντίστοιχη φόρμα δεξιά – σε κινητά τηλ. στο τέλος – της οθόνης ή επικοινωνήστε με το Ινστιτούτο Διαρκούς Επιμόρφωσης Επιχειρήσεων Αυτοκινήτου στα \n 2102825611 \n\n 2106754419 \n\n dtp@ideea.gr \n\nΕισηγητές\n\nΠΕΤΡΟΣ ΚΑΡΑΜΠΙΛΑΣΤΕΧΝ. ΜΗΧ. ΟΧΗΜΑΤΩΝΔ/ντής & Εκπαιδευτής ΙΔΕΕΑ πιστοποιημένος από το Εθνικό Κέντρο Πιστοποίησης Δομών Δια Βίου Μάθησης \n\n\nΔίνεται Ονομαστική Βεβαίωση Παρακολούθησης\n\n\n 
URL:https://ideea.gr/event/digital-marketing/
LOCATION:Μέσω Υπολογιστή
CATEGORIES:Webinars
ATTACH;FMTTYPE=image/jpeg:https://ideea.gr/wp-content/uploads/2021/05/digital-marketing.jpg
ORGANIZER;CN="%CE%99%CE%BD%CF%83%CF%84%CE%B9%CF%84%CE%BF%CF%8D%CF%84%CE%BF%20%CE%99%CE%94%CE%95%CE%95%CE%91":MAILTO:dtp@ideea.gr
END:VEVENT
END:VCALENDAR