BEGIN:VCALENDAR
VERSION:2.0
PRODID:-//IDEEA - ECPv5.6.0//NONSGML v1.0//EN
CALSCALE:GREGORIAN
METHOD:PUBLISH
X-WR-CALNAME:IDEEA
X-ORIGINAL-URL:https://ideea.gr
X-WR-CALDESC:IDEEA - Εκδηλώσεις
BEGIN:VTIMEZONE
TZID:Europe/Moscow
BEGIN:STANDARD
TZOFFSETFROM:+0300
TZOFFSETTO:+0300
TZNAME:MSK
DTSTART:20240101T000000
END:STANDARD
END:VTIMEZONE
BEGIN:VEVENT
DTSTART;TZID=Europe/Moscow:20240520T190000
DTEND;TZID=Europe/Moscow:20240520T203000
DTSTAMP:20260421T003849
CREATED:20240514T172604Z
LAST-MODIFIED:20240514T172604Z
UID:6404-1716231600-1716237000@ideea.gr
SUMMARY:Δωρεάν Σεμινάριο Παρουσίασης Διαγνωστικών Autel
DESCRIPTION:Δωρεάν Σεμινάριο μέσω Υπολογιστή (Webinar)\nΠαρουσίαση Διαγνωστικών Autel.\n\n Δευτέρα 20/05/2024  19:00-20:30 \nNέα μοντέλα διαγνωστικών μηχανημάτων που ξεχωρίζουν \n\nMaxiSYS MS909 \nMaxiSYS MS919 \nMaxiSYS Ultra\n\nΜε υποστήριξη για Υβριδικά & Ηλεκτρικά οχήματα \n\nAutel Diagnostics\nAutel ADAS\nAutel Immo – key Programming\nAutel TPMS & Battery testers\nAutel EV chargers\n\nΒελτιωμένες δυνατότητες AutoSCAN\, καθοδηγούμενη διάγνωσης βλαβών για κωδικούς DTC’s\, Τοπολογία εγκεφάλων που επιτρέπει την χαρτογράφηση των μονάδων του αυτοκινήτου. \nΤο νέο MaxiFlash VCMI λειτουργεί ως \n\nΚεφαλή Passthru για προγραμματισμό\nΕνσωματωμένος Παλμογράφος 4 καναλιών\, (MaxiSYS Ultra & MaxiSYS MS919)\nΓεννήτρια κυματομορφών\,\nΠολύμετρο &\nΕλεγκτής CAN BUS\n\nΚάλυψη: Ασιατικά\, Ευρωπαϊκά & Αμερικάνικα μοντέλα αυτοκινήτων \nΣυμμετοχή\nΠληροφορίες\n 2102825611 \n\n 2106754419 \n\n dtp@ideea.gr \n\n  \n 
URL:https://ideea.gr/event/autel-presentation/
LOCATION:Μέσω Υπολογιστή
CATEGORIES:Webinars
ATTACH;FMTTYPE=image/jpeg:https://ideea.gr/wp-content/uploads/2024/05/autel-4.jpg
ORGANIZER;CN="%CE%99%CE%BD%CF%83%CF%84%CE%B9%CF%84%CE%BF%CF%8D%CF%84%CE%BF%20%CE%99%CE%94%CE%95%CE%95%CE%91":MAILTO:dtp@ideea.gr
END:VEVENT
END:VCALENDAR